BEGIN:VCALENDAR
VERSION:2.0
PRODID:-//Brevillier Village - ECPv6.15.20//NONSGML v1.0//EN
CALSCALE:GREGORIAN
METHOD:PUBLISH
X-WR-CALNAME:Brevillier Village
X-ORIGINAL-URL:https://www.brevillier.org
X-WR-CALDESC:Events for Brevillier Village
REFRESH-INTERVAL;VALUE=DURATION:PT1H
X-Robots-Tag:noindex
X-PUBLISHED-TTL:PT1H
BEGIN:VTIMEZONE
TZID:America/New_York
BEGIN:DAYLIGHT
TZOFFSETFROM:-0500
TZOFFSETTO:-0400
TZNAME:EDT
DTSTART:20250309T070000
END:DAYLIGHT
BEGIN:STANDARD
TZOFFSETFROM:-0400
TZOFFSETTO:-0500
TZNAME:EST
DTSTART:20251102T060000
END:STANDARD
BEGIN:DAYLIGHT
TZOFFSETFROM:-0500
TZOFFSETTO:-0400
TZNAME:EDT
DTSTART:20260308T070000
END:DAYLIGHT
BEGIN:STANDARD
TZOFFSETFROM:-0400
TZOFFSETTO:-0500
TZNAME:EST
DTSTART:20261101T060000
END:STANDARD
BEGIN:DAYLIGHT
TZOFFSETFROM:-0500
TZOFFSETTO:-0400
TZNAME:EDT
DTSTART:20270314T070000
END:DAYLIGHT
BEGIN:STANDARD
TZOFFSETFROM:-0400
TZOFFSETTO:-0500
TZNAME:EST
DTSTART:20271107T060000
END:STANDARD
END:VTIMEZONE
BEGIN:VEVENT
DTSTART;TZID=America/New_York:20260223T093000
DTEND;TZID=America/New_York:20260223T093000
DTSTAMP:20260423T165458
CREATED:20260213T154426Z
LAST-MODIFIED:20260213T185802Z
UID:5184-1771839000-1771839000@www.brevillier.org
SUMMARY:Exercise
DESCRIPTION:
URL:https://www.brevillier.org/event/exercise-54/
CATEGORIES:BC Resident Events
END:VEVENT
BEGIN:VEVENT
DTSTART;TZID=America/New_York:20260223T100000
DTEND;TZID=America/New_York:20260223T100000
DTSTAMP:20260423T165458
CREATED:20260213T154416Z
LAST-MODIFIED:20260213T185800Z
UID:5170-1771840800-1771840800@www.brevillier.org
SUMMARY:News Chat & Fun Facts
DESCRIPTION:
URL:https://www.brevillier.org/event/news-chat-fun-facts-16/
CATEGORIES:BC Resident Events
END:VEVENT
BEGIN:VEVENT
DTSTART;TZID=America/New_York:20260223T103000
DTEND;TZID=America/New_York:20260223T103000
DTSTAMP:20260423T165458
CREATED:20260213T154416Z
LAST-MODIFIED:20260213T185800Z
UID:5168-1771842600-1771842600@www.brevillier.org
SUMMARY:Suffleboard
DESCRIPTION:
URL:https://www.brevillier.org/event/suffleboard-11/
CATEGORIES:BC Resident Events
END:VEVENT
BEGIN:VEVENT
DTSTART;TZID=America/New_York:20260223T130000
DTEND;TZID=America/New_York:20260223T130000
DTSTAMP:20260423T165458
CREATED:20260213T154426Z
LAST-MODIFIED:20260213T185802Z
UID:5185-1771851600-1771851600@www.brevillier.org
SUMMARY:Book Mobile
DESCRIPTION:
URL:https://www.brevillier.org/event/book-mobile/
CATEGORIES:BC Resident Events
END:VEVENT
BEGIN:VEVENT
DTSTART;TZID=America/New_York:20260223T143000
DTEND;TZID=America/New_York:20260223T143000
DTSTAMP:20260423T165458
CREATED:20260213T154416Z
LAST-MODIFIED:20260213T185800Z
UID:5167-1771857000-1771857000@www.brevillier.org
SUMMARY:Rosary
DESCRIPTION:
URL:https://www.brevillier.org/event/rosary-20/
CATEGORIES:BC Resident Events
END:VEVENT
BEGIN:VEVENT
DTSTART;TZID=America/New_York:20260223T150000
DTEND;TZID=America/New_York:20260223T150000
DTSTAMP:20260423T165458
CREATED:20260213T154416Z
LAST-MODIFIED:20260213T185800Z
UID:5166-1771858800-1771858800@www.brevillier.org
SUMMARY:Beverage Cart
DESCRIPTION:
URL:https://www.brevillier.org/event/beverage-cart-21/
CATEGORIES:BC Resident Events
END:VEVENT
BEGIN:VEVENT
DTSTART;TZID=America/New_York:20260223T180000
DTEND;TZID=America/New_York:20260223T180000
DTSTAMP:20260423T165458
CREATED:20260213T154416Z
LAST-MODIFIED:20260213T185800Z
UID:5169-1771869600-1771869600@www.brevillier.org
SUMMARY:Movie
DESCRIPTION:
URL:https://www.brevillier.org/event/movie-39/
CATEGORIES:BC Resident Events
END:VEVENT
BEGIN:VEVENT
DTSTART;TZID=America/New_York:20260224T093000
DTEND;TZID=America/New_York:20260224T093000
DTSTAMP:20260423T165458
CREATED:20260213T154426Z
LAST-MODIFIED:20260213T185802Z
UID:5186-1771925400-1771925400@www.brevillier.org
SUMMARY:Exercise
DESCRIPTION:
URL:https://www.brevillier.org/event/exercise-55/
CATEGORIES:BC Resident Events
END:VEVENT
BEGIN:VEVENT
DTSTART;TZID=America/New_York:20260224T100000
DTEND;TZID=America/New_York:20260224T100000
DTSTAMP:20260423T165458
CREATED:20260213T154434Z
LAST-MODIFIED:20260213T185806Z
UID:5210-1771927200-1771927200@www.brevillier.org
SUMMARY:News Chat & Doughnuts
DESCRIPTION:
URL:https://www.brevillier.org/event/news-chat-doughnuts-3/
CATEGORIES:BC Resident Events
END:VEVENT
BEGIN:VEVENT
DTSTART;TZID=America/New_York:20260224T103000
DTEND;TZID=America/New_York:20260224T103000
DTSTAMP:20260423T165458
CREATED:20260213T154433Z
LAST-MODIFIED:20260213T185806Z
UID:5209-1771929000-1771929000@www.brevillier.org
SUMMARY:Chat's With Chuck
DESCRIPTION:
URL:https://www.brevillier.org/event/chats-with-chuck-2/
CATEGORIES:BC Resident Events
END:VEVENT
BEGIN:VEVENT
DTSTART;TZID=America/New_York:20260224T120000
DTEND;TZID=America/New_York:20260224T120000
DTSTAMP:20260423T165458
CREATED:20260213T154434Z
LAST-MODIFIED:20260213T185806Z
UID:5211-1771934400-1771934400@www.brevillier.org
SUMMARY:Pizza For Lunch
DESCRIPTION:
URL:https://www.brevillier.org/event/pizza-for-lunch/
CATEGORIES:BC Resident Events
END:VEVENT
BEGIN:VEVENT
DTSTART;TZID=America/New_York:20260224T133000
DTEND;TZID=America/New_York:20260224T133000
DTSTAMP:20260423T165458
CREATED:20260213T154426Z
LAST-MODIFIED:20260213T185802Z
UID:5187-1771939800-1771939800@www.brevillier.org
SUMMARY:Resident Association Meeting
DESCRIPTION:
URL:https://www.brevillier.org/event/resident-association-meeting-4/
CATEGORIES:BC Resident Events
END:VEVENT
BEGIN:VEVENT
DTSTART;TZID=America/New_York:20260224T133000
DTEND;TZID=America/New_York:20260224T133000
DTSTAMP:20260423T165458
CREATED:20260213T154433Z
LAST-MODIFIED:20260213T185806Z
UID:5207-1771939800-1771939800@www.brevillier.org
SUMMARY:Art's & Crafts
DESCRIPTION:
URL:https://www.brevillier.org/event/arts-crafts-2/
CATEGORIES:BC Resident Events
END:VEVENT
BEGIN:VEVENT
DTSTART;TZID=America/New_York:20260224T150000
DTEND;TZID=America/New_York:20260224T150000
DTSTAMP:20260423T165458
CREATED:20260213T154426Z
LAST-MODIFIED:20260213T185802Z
UID:5188-1771945200-1771945200@www.brevillier.org
SUMMARY:Beverage Cart
DESCRIPTION:
URL:https://www.brevillier.org/event/beverage-cart-22/
CATEGORIES:BC Resident Events
END:VEVENT
BEGIN:VEVENT
DTSTART;TZID=America/New_York:20260224T180000
DTEND;TZID=America/New_York:20260224T180000
DTSTAMP:20260423T165458
CREATED:20260213T154433Z
LAST-MODIFIED:20260213T185806Z
UID:5208-1771956000-1771956000@www.brevillier.org
SUMMARY:Dime Bingo
DESCRIPTION:
URL:https://www.brevillier.org/event/dime-bingo-3/
CATEGORIES:BC Resident Events
END:VEVENT
BEGIN:VEVENT
DTSTART;TZID=America/New_York:20260225T093000
DTEND;TZID=America/New_York:20260225T093000
DTSTAMP:20260423T165459
CREATED:20260213T154440Z
LAST-MODIFIED:20260213T185817Z
UID:5218-1772011800-1772011800@www.brevillier.org
SUMMARY:Exercise
DESCRIPTION:
URL:https://www.brevillier.org/event/exercise-56/
CATEGORIES:BC Resident Events
END:VEVENT
BEGIN:VEVENT
DTSTART;TZID=America/New_York:20260225T100000
DTEND;TZID=America/New_York:20260225T100000
DTSTAMP:20260423T165459
CREATED:20260213T154446Z
LAST-MODIFIED:20260213T185819Z
UID:5229-1772013600-1772013600@www.brevillier.org
SUMMARY:News Chat & Trivia
DESCRIPTION:
URL:https://www.brevillier.org/event/news-chat-trivia-3/
CATEGORIES:BC Resident Events
END:VEVENT
BEGIN:VEVENT
DTSTART;TZID=America/New_York:20260225T103000
DTEND;TZID=America/New_York:20260225T103000
DTSTAMP:20260423T165459
CREATED:20260213T154446Z
LAST-MODIFIED:20260213T185819Z
UID:5228-1772015400-1772015400@www.brevillier.org
SUMMARY:Bowling At BCN
DESCRIPTION:
URL:https://www.brevillier.org/event/bowling-at-bcn-2/
CATEGORIES:BC Resident Events
END:VEVENT
BEGIN:VEVENT
DTSTART;TZID=America/New_York:20260225T130000
DTEND;TZID=America/New_York:20260225T130000
DTSTAMP:20260423T165459
CREATED:20260213T154440Z
LAST-MODIFIED:20260213T185817Z
UID:5219-1772024400-1772024400@www.brevillier.org
SUMMARY:Movie
DESCRIPTION:
URL:https://www.brevillier.org/event/movie-40/
CATEGORIES:BC Resident Events
END:VEVENT
BEGIN:VEVENT
DTSTART;TZID=America/New_York:20260225T140000
DTEND;TZID=America/New_York:20260225T140000
DTSTAMP:20260423T165459
CREATED:20260213T154440Z
LAST-MODIFIED:20260213T185817Z
UID:5222-1772028000-1772028000@www.brevillier.org
SUMMARY:Popcorn & Beverages
DESCRIPTION:
URL:https://www.brevillier.org/event/popcorn-beverages-2/
CATEGORIES:BC Resident Events
END:VEVENT
BEGIN:VEVENT
DTSTART;TZID=America/New_York:20260225T143000
DTEND;TZID=America/New_York:20260225T143000
DTSTAMP:20260423T165459
CREATED:20260213T154440Z
LAST-MODIFIED:20260213T185817Z
UID:5221-1772029800-1772029800@www.brevillier.org
SUMMARY:Rosary
DESCRIPTION:
URL:https://www.brevillier.org/event/rosary-21/
CATEGORIES:BC Resident Events
END:VEVENT
BEGIN:VEVENT
DTSTART;TZID=America/New_York:20260225T180000
DTEND;TZID=America/New_York:20260225T180000
DTSTAMP:20260423T165459
CREATED:20260213T154440Z
LAST-MODIFIED:20260213T185817Z
UID:5220-1772042400-1772042400@www.brevillier.org
SUMMARY:Movie
DESCRIPTION:
URL:https://www.brevillier.org/event/movie-41/
CATEGORIES:BC Resident Events
END:VEVENT
BEGIN:VEVENT
DTSTART;TZID=America/New_York:20260226T093000
DTEND;TZID=America/New_York:20260226T093000
DTSTAMP:20260423T165459
CREATED:20260213T154447Z
LAST-MODIFIED:20260213T185819Z
UID:5230-1772098200-1772098200@www.brevillier.org
SUMMARY:Exercise
DESCRIPTION:
URL:https://www.brevillier.org/event/exercise-57/
CATEGORIES:BC Resident Events
END:VEVENT
BEGIN:VEVENT
DTSTART;TZID=America/New_York:20260226T100000
DTEND;TZID=America/New_York:20260226T100000
DTSTAMP:20260423T165459
CREATED:20260213T154447Z
LAST-MODIFIED:20260213T185819Z
UID:5231-1772100000-1772100000@www.brevillier.org
SUMMARY:News Chat & Doughnuts
DESCRIPTION:
URL:https://www.brevillier.org/event/news-chat-doughnuts-4/
CATEGORIES:BC Resident Events
END:VEVENT
BEGIN:VEVENT
DTSTART;TZID=America/New_York:20260226T103000
DTEND;TZID=America/New_York:20260226T103000
DTSTAMP:20260423T165459
CREATED:20260213T154453Z
LAST-MODIFIED:20260213T185823Z
UID:5239-1772101800-1772101800@www.brevillier.org
SUMMARY:Morning Happy Hour
DESCRIPTION:
URL:https://www.brevillier.org/event/morning-happy-hour-2/
CATEGORIES:BC Resident Events
END:VEVENT
BEGIN:VEVENT
DTSTART;TZID=America/New_York:20260226T133000
DTEND;TZID=America/New_York:20260226T133000
DTSTAMP:20260423T165459
CREATED:20260213T154453Z
LAST-MODIFIED:20260213T185823Z
UID:5238-1772112600-1772112600@www.brevillier.org
SUMMARY:Religious Service
DESCRIPTION:
URL:https://www.brevillier.org/event/religious-service-2/
CATEGORIES:BC Resident Events
END:VEVENT
BEGIN:VEVENT
DTSTART;TZID=America/New_York:20260226T150000
DTEND;TZID=America/New_York:20260226T150000
DTSTAMP:20260423T165459
CREATED:20260213T154453Z
LAST-MODIFIED:20260313T142636Z
UID:5240-1772118000-1772118000@www.brevillier.org
SUMMARY:Thirsty Thursday Orange or Rootbeer Ice Cream Float Cart
DESCRIPTION:
URL:https://www.brevillier.org/event/thirsty-thursday-orange-or-rootbeer-ice-cream-float-cart/
CATEGORIES:BC Resident Events
END:VEVENT
BEGIN:VEVENT
DTSTART;TZID=America/New_York:20260226T180000
DTEND;TZID=America/New_York:20260226T180000
DTSTAMP:20260423T165459
CREATED:20260213T154447Z
LAST-MODIFIED:20260213T185819Z
UID:5232-1772128800-1772128800@www.brevillier.org
SUMMARY:Dime Bingo
DESCRIPTION:
URL:https://www.brevillier.org/event/dime-bingo-4/
CATEGORIES:BC Resident Events
END:VEVENT
BEGIN:VEVENT
DTSTART;TZID=America/New_York:20260227T100000
DTEND;TZID=America/New_York:20260227T100000
DTSTAMP:20260423T165459
CREATED:20260213T154501Z
LAST-MODIFIED:20260213T185834Z
UID:5248-1772186400-1772186400@www.brevillier.org
SUMMARY:Religious Services
DESCRIPTION:
URL:https://www.brevillier.org/event/religious-services-3/
CATEGORIES:BC Resident Events
END:VEVENT
BEGIN:VEVENT
DTSTART;TZID=America/New_York:20260227T110000
DTEND;TZID=America/New_York:20260227T110000
DTSTAMP:20260423T165459
CREATED:20260213T154501Z
LAST-MODIFIED:20260213T185834Z
UID:5249-1772190000-1772190000@www.brevillier.org
SUMMARY:Hand Spa & Relaxing Beauty
DESCRIPTION:
URL:https://www.brevillier.org/event/hand-spa-relaxing-beauty-4/
CATEGORIES:BC Resident Events
END:VEVENT
END:VCALENDAR