BEGIN:VCALENDAR
VERSION:2.0
PRODID:-//Brevillier Village - ECPv6.15.20//NONSGML v1.0//EN
CALSCALE:GREGORIAN
METHOD:PUBLISH
X-WR-CALNAME:Brevillier Village
X-ORIGINAL-URL:https://www.brevillier.org
X-WR-CALDESC:Events for Brevillier Village
REFRESH-INTERVAL;VALUE=DURATION:PT1H
X-Robots-Tag:noindex
X-PUBLISHED-TTL:PT1H
BEGIN:VTIMEZONE
TZID:America/New_York
BEGIN:DAYLIGHT
TZOFFSETFROM:-0500
TZOFFSETTO:-0400
TZNAME:EDT
DTSTART:20250309T070000
END:DAYLIGHT
BEGIN:STANDARD
TZOFFSETFROM:-0400
TZOFFSETTO:-0500
TZNAME:EST
DTSTART:20251102T060000
END:STANDARD
BEGIN:DAYLIGHT
TZOFFSETFROM:-0500
TZOFFSETTO:-0400
TZNAME:EDT
DTSTART:20260308T070000
END:DAYLIGHT
BEGIN:STANDARD
TZOFFSETFROM:-0400
TZOFFSETTO:-0500
TZNAME:EST
DTSTART:20261101T060000
END:STANDARD
BEGIN:DAYLIGHT
TZOFFSETFROM:-0500
TZOFFSETTO:-0400
TZNAME:EDT
DTSTART:20270314T070000
END:DAYLIGHT
BEGIN:STANDARD
TZOFFSETFROM:-0400
TZOFFSETTO:-0500
TZNAME:EST
DTSTART:20271107T060000
END:STANDARD
END:VTIMEZONE
BEGIN:VEVENT
DTSTART;TZID=America/New_York:20260218T130000
DTEND;TZID=America/New_York:20260218T130000
DTSTAMP:20260424T072419
CREATED:20260213T154043Z
LAST-MODIFIED:20260213T185715Z
UID:5108-1771419600-1771419600@www.brevillier.org
SUMMARY:Movie
DESCRIPTION:
URL:https://www.brevillier.org/event/movie-36/
CATEGORIES:BC Resident Events
END:VEVENT
BEGIN:VEVENT
DTSTART;TZID=America/New_York:20260218T113000
DTEND;TZID=America/New_York:20260218T113000
DTSTAMP:20260424T072419
CREATED:20260213T154053Z
LAST-MODIFIED:20260213T185732Z
UID:5114-1771414200-1771414200@www.brevillier.org
SUMMARY:Ash Wednesday }  Ashes
DESCRIPTION:
URL:https://www.brevillier.org/event/ash-wednesday-ashes/
CATEGORIES:BC Resident Events
END:VEVENT
BEGIN:VEVENT
DTSTART;TZID=America/New_York:20260218T103000
DTEND;TZID=America/New_York:20260218T103000
DTSTAMP:20260424T072419
CREATED:20260213T154053Z
LAST-MODIFIED:20260213T185732Z
UID:5112-1771410600-1771410600@www.brevillier.org
SUMMARY:Bowling At BCN
DESCRIPTION:
URL:https://www.brevillier.org/event/bowling-at-bcn/
CATEGORIES:BC Resident Events
END:VEVENT
BEGIN:VEVENT
DTSTART;TZID=America/New_York:20260218T100000
DTEND;TZID=America/New_York:20260218T100000
DTSTAMP:20260424T072419
CREATED:20260213T154053Z
LAST-MODIFIED:20260213T185732Z
UID:5113-1771408800-1771408800@www.brevillier.org
SUMMARY:News Chat & Trivia
DESCRIPTION:
URL:https://www.brevillier.org/event/news-chat-trivia-2/
CATEGORIES:BC Resident Events
END:VEVENT
BEGIN:VEVENT
DTSTART;TZID=America/New_York:20260218T093000
DTEND;TZID=America/New_York:20260218T093000
DTSTAMP:20260424T072419
CREATED:20260213T154043Z
LAST-MODIFIED:20260213T185715Z
UID:5107-1771407000-1771407000@www.brevillier.org
SUMMARY:Exercise
DESCRIPTION:
URL:https://www.brevillier.org/event/exercise-52/
CATEGORIES:BC Resident Events
END:VEVENT
BEGIN:VEVENT
DTSTART;TZID=America/New_York:20260217T180000
DTEND;TZID=America/New_York:20260217T180000
DTSTAMP:20260424T072419
CREATED:20260213T154033Z
LAST-MODIFIED:20260213T185659Z
UID:5104-1771351200-1771351200@www.brevillier.org
SUMMARY:Dime Bingo
DESCRIPTION:
URL:https://www.brevillier.org/event/dime-bingo/
CATEGORIES:BC Resident Events
END:VEVENT
BEGIN:VEVENT
DTSTART;TZID=America/New_York:20260217T150000
DTEND;TZID=America/New_York:20260217T150000
DTSTAMP:20260424T072419
CREATED:20260213T153742Z
LAST-MODIFIED:20260213T185659Z
UID:5065-1771340400-1771340400@www.brevillier.org
SUMMARY:Beverage Cart
DESCRIPTION:
URL:https://www.brevillier.org/event/beverage-cart-19/
CATEGORIES:BC Resident Events
END:VEVENT
BEGIN:VEVENT
DTSTART;TZID=America/New_York:20260217T133000
DTEND;TZID=America/New_York:20260217T133000
DTSTAMP:20260424T072419
CREATED:20260213T153742Z
LAST-MODIFIED:20260213T185659Z
UID:5067-1771335000-1771335000@www.brevillier.org
SUMMARY:Art's & Crafts
DESCRIPTION:
URL:https://www.brevillier.org/event/arts-crafts/
CATEGORIES:BC Resident Events
END:VEVENT
BEGIN:VEVENT
DTSTART;TZID=America/New_York:20260217T103000
DTEND;TZID=America/New_York:20260217T103000
DTSTAMP:20260424T072419
CREATED:20260213T154043Z
LAST-MODIFIED:20260213T185715Z
UID:5105-1771324200-1771324200@www.brevillier.org
SUMMARY:Chat's With Chuck
DESCRIPTION:
URL:https://www.brevillier.org/event/chats-with-chuck/
CATEGORIES:BC Resident Events
END:VEVENT
BEGIN:VEVENT
DTSTART;TZID=America/New_York:20260217T100000
DTEND;TZID=America/New_York:20260217T100000
DTSTAMP:20260424T072419
CREATED:20260213T154043Z
LAST-MODIFIED:20260213T185715Z
UID:5106-1771322400-1771322400@www.brevillier.org
SUMMARY:News Chat & Doughnuts
DESCRIPTION:
URL:https://www.brevillier.org/event/news-chat-doughnuts/
CATEGORIES:BC Resident Events
END:VEVENT
BEGIN:VEVENT
DTSTART;TZID=America/New_York:20260217T093000
DTEND;TZID=America/New_York:20260217T093000
DTSTAMP:20260424T072419
CREATED:20260213T154033Z
LAST-MODIFIED:20260213T185659Z
UID:5101-1771320600-1771320600@www.brevillier.org
SUMMARY:Exercise
DESCRIPTION:
URL:https://www.brevillier.org/event/exercise-51/
CATEGORIES:BC Resident Events
END:VEVENT
BEGIN:VEVENT
DTSTART;TZID=America/New_York:20260216T180000
DTEND;TZID=America/New_York:20260216T180000
DTSTAMP:20260424T072419
CREATED:20260213T154024Z
LAST-MODIFIED:20260213T185643Z
UID:5098-1771264800-1771264800@www.brevillier.org
SUMMARY:Movie
DESCRIPTION:
URL:https://www.brevillier.org/event/movie-35/
CATEGORIES:BC Resident Events
END:VEVENT
BEGIN:VEVENT
DTSTART;TZID=America/New_York:20260216T150000
DTEND;TZID=America/New_York:20260216T150000
DTSTAMP:20260424T072419
CREATED:20260213T153341Z
LAST-MODIFIED:20260213T183027Z
UID:5058-1771254000-1771254000@www.brevillier.org
SUMMARY:Beverage Cart
DESCRIPTION:
URL:https://www.brevillier.org/event/beverage-cart-18/
CATEGORIES:BC Resident Events
END:VEVENT
BEGIN:VEVENT
DTSTART;TZID=America/New_York:20260216T143000
DTEND;TZID=America/New_York:20260216T143000
DTSTAMP:20260424T072419
CREATED:20260213T154024Z
LAST-MODIFIED:20260213T185642Z
UID:5095-1771252200-1771252200@www.brevillier.org
SUMMARY:Rosary
DESCRIPTION:
URL:https://www.brevillier.org/event/rosary-18/
CATEGORIES:BC Resident Events
END:VEVENT
BEGIN:VEVENT
DTSTART;TZID=America/New_York:20260216T133000
DTEND;TZID=America/New_York:20260216T133000
DTSTAMP:20260424T072419
CREATED:20260213T154024Z
LAST-MODIFIED:20260213T185642Z
UID:5096-1771248600-1771248600@www.brevillier.org
SUMMARY:Bingo Bucks Bingo
DESCRIPTION:
URL:https://www.brevillier.org/event/bingo-bucks-bingo-6/
CATEGORIES:BC Resident Events
END:VEVENT
BEGIN:VEVENT
DTSTART;TZID=America/New_York:20260216T103000
DTEND;TZID=America/New_York:20260216T103000
DTSTAMP:20260424T072419
CREATED:20260213T154024Z
LAST-MODIFIED:20260213T185642Z
UID:5097-1771237800-1771237800@www.brevillier.org
SUMMARY:Suffleboard
DESCRIPTION:
URL:https://www.brevillier.org/event/suffleboard-10/
CATEGORIES:BC Resident Events
END:VEVENT
BEGIN:VEVENT
DTSTART;TZID=America/New_York:20260216T100000
DTEND;TZID=America/New_York:20260216T100000
DTSTAMP:20260424T072419
CREATED:20260213T154024Z
LAST-MODIFIED:20260213T185643Z
UID:5099-1771236000-1771236000@www.brevillier.org
SUMMARY:News Chat & Fun Facts
DESCRIPTION:
URL:https://www.brevillier.org/event/news-chat-fun-facts-15/
CATEGORIES:BC Resident Events
END:VEVENT
BEGIN:VEVENT
DTSTART;TZID=America/New_York:20260216T093000
DTEND;TZID=America/New_York:20260216T093000
DTSTAMP:20260424T072419
CREATED:20260213T154033Z
LAST-MODIFIED:20260213T185659Z
UID:5100-1771234200-1771234200@www.brevillier.org
SUMMARY:Exercise
DESCRIPTION:
URL:https://www.brevillier.org/event/exercise-50/
CATEGORIES:BC Resident Events
END:VEVENT
BEGIN:VEVENT
DTSTART;TZID=America/New_York:20260215T130000
DTEND;TZID=America/New_York:20260215T130000
DTSTAMP:20260424T072419
CREATED:20260213T153950Z
LAST-MODIFIED:20260213T183027Z
UID:5088-1771160400-1771160400@www.brevillier.org
SUMMARY:Memory Magic
DESCRIPTION:
URL:https://www.brevillier.org/event/memory-magic-2/
CATEGORIES:BC Resident Events
END:VEVENT
BEGIN:VEVENT
DTSTART;TZID=America/New_York:20260215T094500
DTEND;TZID=America/New_York:20260215T094500
DTSTAMP:20260424T072419
CREATED:20260213T153950Z
LAST-MODIFIED:20260213T183027Z
UID:5089-1771148700-1771148700@www.brevillier.org
SUMMARY:News Chat
DESCRIPTION:
URL:https://www.brevillier.org/event/news-chat-6/
CATEGORIES:BC Resident Events
END:VEVENT
BEGIN:VEVENT
DTSTART;TZID=America/New_York:20260214T131500
DTEND;TZID=America/New_York:20260214T131500
DTSTAMP:20260424T072419
CREATED:20260213T153948Z
LAST-MODIFIED:20260213T183025Z
UID:5085-1771074900-1771074900@www.brevillier.org
SUMMARY:Shuffleboard
DESCRIPTION:
URL:https://www.brevillier.org/event/shuffleboard-3/
CATEGORIES:BC Resident Events
END:VEVENT
BEGIN:VEVENT
DTSTART;TZID=America/New_York:20260214T103000
DTEND;TZID=America/New_York:20260214T103000
DTSTAMP:20260424T072419
CREATED:20260213T153949Z
LAST-MODIFIED:20260213T183027Z
UID:5086-1771065000-1771065000@www.brevillier.org
SUMMARY:Polo
DESCRIPTION:
URL:https://www.brevillier.org/event/polo-2/
CATEGORIES:BC Resident Events
END:VEVENT
BEGIN:VEVENT
DTSTART;TZID=America/New_York:20260214T094500
DTEND;TZID=America/New_York:20260214T094500
DTSTAMP:20260424T072419
CREATED:20260213T153949Z
LAST-MODIFIED:20260213T183027Z
UID:5087-1771062300-1771062300@www.brevillier.org
SUMMARY:News Chat
DESCRIPTION:
URL:https://www.brevillier.org/event/news-chat-5/
CATEGORIES:BC Resident Events
END:VEVENT
BEGIN:VEVENT
DTSTART;TZID=America/New_York:20260213T180000
DTEND;TZID=America/New_York:20260213T180000
DTSTAMP:20260424T072419
CREATED:20260213T153948Z
LAST-MODIFIED:20260213T183025Z
UID:5081-1771005600-1771005600@www.brevillier.org
SUMMARY:Movie
DESCRIPTION:
URL:https://www.brevillier.org/event/movie-34/
CATEGORIES:BC Resident Events
END:VEVENT
BEGIN:VEVENT
DTSTART;TZID=America/New_York:20260213T133000
DTEND;TZID=America/New_York:20260213T133000
DTSTAMP:20260424T072419
CREATED:20260213T153948Z
LAST-MODIFIED:20260213T183025Z
UID:5084-1770989400-1770989400@www.brevillier.org
SUMMARY:Social Hour With Z-Praise
DESCRIPTION:
URL:https://www.brevillier.org/event/social-hour-with-z-praise/
CATEGORIES:BC Resident Events
END:VEVENT
BEGIN:VEVENT
DTSTART;TZID=America/New_York:20260213T110000
DTEND;TZID=America/New_York:20260213T110000
DTSTAMP:20260424T072419
CREATED:20260213T153948Z
LAST-MODIFIED:20260213T183025Z
UID:5083-1770980400-1770980400@www.brevillier.org
SUMMARY:Hand Spa & Relaxing Beauty
DESCRIPTION:
URL:https://www.brevillier.org/event/hand-spa-relaxing-beauty-2/
CATEGORIES:BC Resident Events
END:VEVENT
BEGIN:VEVENT
DTSTART;TZID=America/New_York:20260213T100000
DTEND;TZID=America/New_York:20260213T100000
DTSTAMP:20260424T072419
CREATED:20260213T153948Z
LAST-MODIFIED:20260213T183025Z
UID:5082-1770976800-1770976800@www.brevillier.org
SUMMARY:Religious Services
DESCRIPTION:
URL:https://www.brevillier.org/event/religious-services/
CATEGORIES:BC Resident Events
END:VEVENT
END:VCALENDAR