BEGIN:VCALENDAR
VERSION:2.0
PRODID:-//Brevillier Village - ECPv6.15.20//NONSGML v1.0//EN
CALSCALE:GREGORIAN
METHOD:PUBLISH
X-ORIGINAL-URL:https://www.brevillier.org
X-WR-CALDESC:Events for Brevillier Village
REFRESH-INTERVAL;VALUE=DURATION:PT1H
X-Robots-Tag:noindex
X-PUBLISHED-TTL:PT1H
BEGIN:VTIMEZONE
TZID:America/New_York
BEGIN:DAYLIGHT
TZOFFSETFROM:-0500
TZOFFSETTO:-0400
TZNAME:EDT
DTSTART:20250309T070000
END:DAYLIGHT
BEGIN:STANDARD
TZOFFSETFROM:-0400
TZOFFSETTO:-0500
TZNAME:EST
DTSTART:20251102T060000
END:STANDARD
BEGIN:DAYLIGHT
TZOFFSETFROM:-0500
TZOFFSETTO:-0400
TZNAME:EDT
DTSTART:20260308T070000
END:DAYLIGHT
BEGIN:STANDARD
TZOFFSETFROM:-0400
TZOFFSETTO:-0500
TZNAME:EST
DTSTART:20261101T060000
END:STANDARD
BEGIN:DAYLIGHT
TZOFFSETFROM:-0500
TZOFFSETTO:-0400
TZNAME:EDT
DTSTART:20270314T070000
END:DAYLIGHT
BEGIN:STANDARD
TZOFFSETFROM:-0400
TZOFFSETTO:-0500
TZNAME:EST
DTSTART:20271107T060000
END:STANDARD
END:VTIMEZONE
BEGIN:VEVENT
DTSTART;TZID=America/New_York:20260318T093000
DTEND;TZID=America/New_York:20260318T093000
DTSTAMP:20260423T100939
CREATED:20260213T154746Z
LAST-MODIFIED:20260213T190055Z
UID:5384-1773826200-1773826200@www.brevillier.org
SUMMARY:Exercise
DESCRIPTION:
URL:https://www.brevillier.org/event/exercise-68/
CATEGORIES:BC Resident Events
END:VEVENT
BEGIN:VEVENT
DTSTART;TZID=America/New_York:20260318T100000
DTEND;TZID=America/New_York:20260318T100000
DTSTAMP:20260423T100939
CREATED:20260213T154756Z
LAST-MODIFIED:20260213T190100Z
UID:5390-1773828000-1773828000@www.brevillier.org
SUMMARY:News Chat & Trivia
DESCRIPTION:
URL:https://www.brevillier.org/event/news-chat-trivia-6/
CATEGORIES:BC Resident Events
END:VEVENT
BEGIN:VEVENT
DTSTART;TZID=America/New_York:20260318T103000
DTEND;TZID=America/New_York:20260318T103000
DTSTAMP:20260423T100939
CREATED:20260213T154755Z
LAST-MODIFIED:20260213T190100Z
UID:5389-1773829800-1773829800@www.brevillier.org
SUMMARY:Bowling At BCN
DESCRIPTION:
URL:https://www.brevillier.org/event/bowling-at-bcn-5/
CATEGORIES:BC Resident Events
END:VEVENT
BEGIN:VEVENT
DTSTART;TZID=America/New_York:20260318T113000
DTEND;TZID=America/New_York:20260318T113000
DTSTAMP:20260423T100939
CREATED:20260213T154756Z
LAST-MODIFIED:20260213T190100Z
UID:5391-1773833400-1773833400@www.brevillier.org
SUMMARY:Ash Wednesday } Ashes
DESCRIPTION:
URL:https://www.brevillier.org/event/ash-wednesday-ashes-2/
CATEGORIES:BC Resident Events
END:VEVENT
BEGIN:VEVENT
DTSTART;TZID=America/New_York:20260318T130000
DTEND;TZID=America/New_York:20260318T130000
DTSTAMP:20260423T100939
CREATED:20260213T154746Z
LAST-MODIFIED:20260213T190055Z
UID:5385-1773838800-1773838800@www.brevillier.org
SUMMARY:Movie
DESCRIPTION:
URL:https://www.brevillier.org/event/movie-52/
CATEGORIES:BC Resident Events
END:VEVENT
BEGIN:VEVENT
DTSTART;TZID=America/New_York:20260318T140000
DTEND;TZID=America/New_York:20260318T140000
DTSTAMP:20260423T100939
CREATED:20260213T154755Z
LAST-MODIFIED:20260213T190059Z
UID:5388-1773842400-1773842400@www.brevillier.org
SUMMARY:Popcorn & Beverages
DESCRIPTION:
URL:https://www.brevillier.org/event/popcorn-beverages-5/
CATEGORIES:BC Resident Events
END:VEVENT
BEGIN:VEVENT
DTSTART;TZID=America/New_York:20260318T143000
DTEND;TZID=America/New_York:20260318T143000
DTSTAMP:20260423T100939
CREATED:20260213T154746Z
LAST-MODIFIED:20260213T190055Z
UID:5387-1773844200-1773844200@www.brevillier.org
SUMMARY:Rosary
DESCRIPTION:
URL:https://www.brevillier.org/event/rosary-27/
CATEGORIES:BC Resident Events
END:VEVENT
BEGIN:VEVENT
DTSTART;TZID=America/New_York:20260318T180000
DTEND;TZID=America/New_York:20260318T180000
DTSTAMP:20260423T100939
CREATED:20260213T154746Z
LAST-MODIFIED:20260213T190055Z
UID:5386-1773856800-1773856800@www.brevillier.org
SUMMARY:Movie
DESCRIPTION:
URL:https://www.brevillier.org/event/movie-53/
CATEGORIES:BC Resident Events
END:VEVENT
END:VCALENDAR