BEGIN:VCALENDAR
VERSION:2.0
PRODID:-//Brevillier Village - ECPv6.15.20//NONSGML v1.0//EN
CALSCALE:GREGORIAN
METHOD:PUBLISH
X-WR-CALNAME:Brevillier Village
X-ORIGINAL-URL:https://www.brevillier.org
X-WR-CALDESC:Events for Brevillier Village
REFRESH-INTERVAL;VALUE=DURATION:PT1H
X-Robots-Tag:noindex
X-PUBLISHED-TTL:PT1H
BEGIN:VTIMEZONE
TZID:America/New_York
BEGIN:DAYLIGHT
TZOFFSETFROM:-0500
TZOFFSETTO:-0400
TZNAME:EDT
DTSTART:20250309T070000
END:DAYLIGHT
BEGIN:STANDARD
TZOFFSETFROM:-0400
TZOFFSETTO:-0500
TZNAME:EST
DTSTART:20251102T060000
END:STANDARD
BEGIN:DAYLIGHT
TZOFFSETFROM:-0500
TZOFFSETTO:-0400
TZNAME:EDT
DTSTART:20260308T070000
END:DAYLIGHT
BEGIN:STANDARD
TZOFFSETFROM:-0400
TZOFFSETTO:-0500
TZNAME:EST
DTSTART:20261101T060000
END:STANDARD
BEGIN:DAYLIGHT
TZOFFSETFROM:-0500
TZOFFSETTO:-0400
TZNAME:EDT
DTSTART:20270314T070000
END:DAYLIGHT
BEGIN:STANDARD
TZOFFSETFROM:-0400
TZOFFSETTO:-0500
TZNAME:EST
DTSTART:20271107T060000
END:STANDARD
END:VTIMEZONE
BEGIN:VEVENT
DTSTART;TZID=America/New_York:20260316T093000
DTEND;TZID=America/New_York:20260316T093000
DTSTAMP:20260423T100845
CREATED:20260213T154726Z
LAST-MODIFIED:20260213T190039Z
UID:5377-1773653400-1773653400@www.brevillier.org
SUMMARY:Exercise
DESCRIPTION:
URL:https://www.brevillier.org/event/exercise-66/
CATEGORIES:BC Resident Events
END:VEVENT
BEGIN:VEVENT
DTSTART;TZID=America/New_York:20260316T100000
DTEND;TZID=America/New_York:20260316T100000
DTSTAMP:20260423T100845
CREATED:20260213T154726Z
LAST-MODIFIED:20260213T190039Z
UID:5376-1773655200-1773655200@www.brevillier.org
SUMMARY:News Chat & Fun Facts
DESCRIPTION:
URL:https://www.brevillier.org/event/news-chat-fun-facts-19/
CATEGORIES:BC Resident Events
END:VEVENT
BEGIN:VEVENT
DTSTART;TZID=America/New_York:20260316T103000
DTEND;TZID=America/New_York:20260316T103000
DTSTAMP:20260423T100845
CREATED:20260213T154726Z
LAST-MODIFIED:20260213T190039Z
UID:5374-1773657000-1773657000@www.brevillier.org
SUMMARY:Suffleboard
DESCRIPTION:
URL:https://www.brevillier.org/event/suffleboard-13/
CATEGORIES:BC Resident Events
END:VEVENT
BEGIN:VEVENT
DTSTART;TZID=America/New_York:20260316T133000
DTEND;TZID=America/New_York:20260316T133000
DTSTAMP:20260423T100845
CREATED:20260213T154725Z
LAST-MODIFIED:20260213T190039Z
UID:5373-1773667800-1773667800@www.brevillier.org
SUMMARY:Bingo Bucks Bingo
DESCRIPTION:
URL:https://www.brevillier.org/event/bingo-bucks-bingo-8/
CATEGORIES:BC Resident Events
END:VEVENT
BEGIN:VEVENT
DTSTART;TZID=America/New_York:20260316T143000
DTEND;TZID=America/New_York:20260316T143000
DTSTAMP:20260423T100845
CREATED:20260213T154716Z
LAST-MODIFIED:20260213T190030Z
UID:5372-1773671400-1773671400@www.brevillier.org
SUMMARY:Rosary
DESCRIPTION:
URL:https://www.brevillier.org/event/rosary-26/
CATEGORIES:BC Resident Events
END:VEVENT
BEGIN:VEVENT
DTSTART;TZID=America/New_York:20260316T150000
DTEND;TZID=America/New_York:20260316T150000
DTSTAMP:20260423T100845
CREATED:20260213T154716Z
LAST-MODIFIED:20260213T190030Z
UID:5371-1773673200-1773673200@www.brevillier.org
SUMMARY:Beverage Cart
DESCRIPTION:
URL:https://www.brevillier.org/event/beverage-cart-28/
CATEGORIES:BC Resident Events
END:VEVENT
BEGIN:VEVENT
DTSTART;TZID=America/New_York:20260316T180000
DTEND;TZID=America/New_York:20260316T180000
DTSTAMP:20260423T100845
CREATED:20260213T154726Z
LAST-MODIFIED:20260213T190039Z
UID:5375-1773684000-1773684000@www.brevillier.org
SUMMARY:Movie
DESCRIPTION:
URL:https://www.brevillier.org/event/movie-51/
CATEGORIES:BC Resident Events
END:VEVENT
END:VCALENDAR