BEGIN:VCALENDAR
VERSION:2.0
PRODID:-//Brevillier Village - ECPv6.15.20//NONSGML v1.0//EN
CALSCALE:GREGORIAN
METHOD:PUBLISH
X-ORIGINAL-URL:https://www.brevillier.org
X-WR-CALDESC:Events for Brevillier Village
REFRESH-INTERVAL;VALUE=DURATION:PT1H
X-Robots-Tag:noindex
X-PUBLISHED-TTL:PT1H
BEGIN:VTIMEZONE
TZID:America/New_York
BEGIN:DAYLIGHT
TZOFFSETFROM:-0500
TZOFFSETTO:-0400
TZNAME:EDT
DTSTART:20250309T070000
END:DAYLIGHT
BEGIN:STANDARD
TZOFFSETFROM:-0400
TZOFFSETTO:-0500
TZNAME:EST
DTSTART:20251102T060000
END:STANDARD
BEGIN:DAYLIGHT
TZOFFSETFROM:-0500
TZOFFSETTO:-0400
TZNAME:EDT
DTSTART:20260308T070000
END:DAYLIGHT
BEGIN:STANDARD
TZOFFSETFROM:-0400
TZOFFSETTO:-0500
TZNAME:EST
DTSTART:20261101T060000
END:STANDARD
BEGIN:DAYLIGHT
TZOFFSETFROM:-0500
TZOFFSETTO:-0400
TZNAME:EDT
DTSTART:20270314T070000
END:DAYLIGHT
BEGIN:STANDARD
TZOFFSETFROM:-0400
TZOFFSETTO:-0500
TZNAME:EST
DTSTART:20271107T060000
END:STANDARD
END:VTIMEZONE
BEGIN:VEVENT
DTSTART;TZID=America/New_York:20260312T093000
DTEND;TZID=America/New_York:20260312T093000
DTSTAMP:20260423T100938
CREATED:20260213T154645Z
LAST-MODIFIED:20260213T185939Z
UID:5354-1773307800-1773307800@www.brevillier.org
SUMMARY:Exercise
DESCRIPTION:
URL:https://www.brevillier.org/event/exercise-65/
CATEGORIES:BC Resident Events
END:VEVENT
BEGIN:VEVENT
DTSTART;TZID=America/New_York:20260312T100000
DTEND;TZID=America/New_York:20260312T100000
DTSTAMP:20260423T100938
CREATED:20260213T154646Z
LAST-MODIFIED:20260213T185939Z
UID:5355-1773309600-1773309600@www.brevillier.org
SUMMARY:News Chat & Doughnuts
DESCRIPTION:
URL:https://www.brevillier.org/event/news-chat-doughnuts-8/
CATEGORIES:BC Resident Events
END:VEVENT
BEGIN:VEVENT
DTSTART;TZID=America/New_York:20260312T103000
DTEND;TZID=America/New_York:20260312T103000
DTSTAMP:20260423T100938
CREATED:20260213T154656Z
LAST-MODIFIED:20260408T111339Z
UID:5358-1773311400-1773311400@www.brevillier.org
SUMMARY:Baking For Journeys End
DESCRIPTION:
URL:https://www.brevillier.org/event/baking-for-journeys-end/
CATEGORIES:BC Resident Events
END:VEVENT
BEGIN:VEVENT
DTSTART;TZID=America/New_York:20260312T120000
DTEND;TZID=America/New_York:20260312T120000
DTSTAMP:20260423T100938
CREATED:20260213T154656Z
LAST-MODIFIED:20260213T185956Z
UID:5359-1773316800-1773316800@www.brevillier.org
SUMMARY:Journey's End Lunch
DESCRIPTION:
URL:https://www.brevillier.org/event/journeys-end-lunch/
CATEGORIES:BC Resident Events
END:VEVENT
BEGIN:VEVENT
DTSTART;TZID=America/New_York:20260312T133000
DTEND;TZID=America/New_York:20260312T133000
DTSTAMP:20260423T100938
CREATED:20260213T154646Z
LAST-MODIFIED:20260213T185939Z
UID:5357-1773322200-1773322200@www.brevillier.org
SUMMARY:Religious Service
DESCRIPTION:
URL:https://www.brevillier.org/event/religious-service-4/
CATEGORIES:BC Resident Events
END:VEVENT
BEGIN:VEVENT
DTSTART;TZID=America/New_York:20260312T150000
DTEND;TZID=America/New_York:20260312T150000
DTSTAMP:20260423T100938
CREATED:20260213T154656Z
LAST-MODIFIED:20260213T185956Z
UID:5360-1773327600-1773327600@www.brevillier.org
SUMMARY:Beverage Cart
DESCRIPTION:
URL:https://www.brevillier.org/event/beverage-cart-27/
CATEGORIES:BC Resident Events
END:VEVENT
BEGIN:VEVENT
DTSTART;TZID=America/New_York:20260312T180000
DTEND;TZID=America/New_York:20260312T180000
DTSTAMP:20260423T100938
CREATED:20260213T154646Z
LAST-MODIFIED:20260213T185939Z
UID:5356-1773338400-1773338400@www.brevillier.org
SUMMARY:Dime Bingo
DESCRIPTION:
URL:https://www.brevillier.org/event/dime-bingo-8/
CATEGORIES:BC Resident Events
END:VEVENT
END:VCALENDAR