BEGIN:VCALENDAR
VERSION:2.0
PRODID:-//Brevillier Village - ECPv6.15.20//NONSGML v1.0//EN
CALSCALE:GREGORIAN
METHOD:PUBLISH
X-ORIGINAL-URL:https://www.brevillier.org
X-WR-CALDESC:Events for Brevillier Village
REFRESH-INTERVAL;VALUE=DURATION:PT1H
X-Robots-Tag:noindex
X-PUBLISHED-TTL:PT1H
BEGIN:VTIMEZONE
TZID:America/New_York
BEGIN:DAYLIGHT
TZOFFSETFROM:-0500
TZOFFSETTO:-0400
TZNAME:EDT
DTSTART:20250309T070000
END:DAYLIGHT
BEGIN:STANDARD
TZOFFSETFROM:-0400
TZOFFSETTO:-0500
TZNAME:EST
DTSTART:20251102T060000
END:STANDARD
BEGIN:DAYLIGHT
TZOFFSETFROM:-0500
TZOFFSETTO:-0400
TZNAME:EDT
DTSTART:20260308T070000
END:DAYLIGHT
BEGIN:STANDARD
TZOFFSETFROM:-0400
TZOFFSETTO:-0500
TZNAME:EST
DTSTART:20261101T060000
END:STANDARD
BEGIN:DAYLIGHT
TZOFFSETFROM:-0500
TZOFFSETTO:-0400
TZNAME:EDT
DTSTART:20270314T070000
END:DAYLIGHT
BEGIN:STANDARD
TZOFFSETFROM:-0400
TZOFFSETTO:-0500
TZNAME:EST
DTSTART:20271107T060000
END:STANDARD
END:VTIMEZONE
BEGIN:VEVENT
DTSTART;TZID=America/New_York:20260310T093000
DTEND;TZID=America/New_York:20260310T093000
DTSTAMP:20260423T100901
CREATED:20260213T154616Z
LAST-MODIFIED:20260213T185930Z
UID:5340-1773135000-1773135000@www.brevillier.org
SUMMARY:Exercise
DESCRIPTION:
URL:https://www.brevillier.org/event/exercise-63/
CATEGORIES:BC Resident Events
END:VEVENT
BEGIN:VEVENT
DTSTART;TZID=America/New_York:20260310T100000
DTEND;TZID=America/New_York:20260310T100000
DTSTAMP:20260423T100901
CREATED:20260213T154625Z
LAST-MODIFIED:20260213T185933Z
UID:5343-1773136800-1773136800@www.brevillier.org
SUMMARY:News Chat & Doughnuts
DESCRIPTION:
URL:https://www.brevillier.org/event/news-chat-doughnuts-7/
CATEGORIES:BC Resident Events
END:VEVENT
BEGIN:VEVENT
DTSTART;TZID=America/New_York:20260310T103000
DTEND;TZID=America/New_York:20260310T103000
DTSTAMP:20260423T100901
CREATED:20260213T154616Z
LAST-MODIFIED:20260213T185930Z
UID:5342-1773138600-1773138600@www.brevillier.org
SUMMARY:Chat's With Chuck
DESCRIPTION:
URL:https://www.brevillier.org/event/chats-with-chuck-4/
CATEGORIES:BC Resident Events
END:VEVENT
BEGIN:VEVENT
DTSTART;TZID=America/New_York:20260310T133000
DTEND;TZID=America/New_York:20260310T133000
DTSTAMP:20260423T100901
CREATED:20260213T154626Z
LAST-MODIFIED:20260213T185933Z
UID:5345-1773149400-1773149400@www.brevillier.org
SUMMARY:Journeys End Craft
DESCRIPTION:
URL:https://www.brevillier.org/event/journeys-end-craft/
CATEGORIES:BC Resident Events
END:VEVENT
BEGIN:VEVENT
DTSTART;TZID=America/New_York:20260310T150000
DTEND;TZID=America/New_York:20260310T150000
DTSTAMP:20260423T100901
CREATED:20260213T154625Z
LAST-MODIFIED:20260213T185933Z
UID:5344-1773154800-1773154800@www.brevillier.org
SUMMARY:Twisted Tuesday
DESCRIPTION:
URL:https://www.brevillier.org/event/twisted-tuesday/
CATEGORIES:BC Resident Events
END:VEVENT
BEGIN:VEVENT
DTSTART;TZID=America/New_York:20260310T180000
DTEND;TZID=America/New_York:20260310T180000
DTSTAMP:20260423T100901
CREATED:20260213T154616Z
LAST-MODIFIED:20260213T185930Z
UID:5341-1773165600-1773165600@www.brevillier.org
SUMMARY:Dime Bingo
DESCRIPTION:
URL:https://www.brevillier.org/event/dime-bingo-7/
CATEGORIES:BC Resident Events
END:VEVENT
END:VCALENDAR