BEGIN:VCALENDAR
VERSION:2.0
PRODID:-//Brevillier Village - ECPv6.15.20//NONSGML v1.0//EN
CALSCALE:GREGORIAN
METHOD:PUBLISH
X-WR-CALNAME:Brevillier Village
X-ORIGINAL-URL:https://www.brevillier.org
X-WR-CALDESC:Events for Brevillier Village
REFRESH-INTERVAL;VALUE=DURATION:PT1H
X-Robots-Tag:noindex
X-PUBLISHED-TTL:PT1H
BEGIN:VTIMEZONE
TZID:America/New_York
BEGIN:DAYLIGHT
TZOFFSETFROM:-0500
TZOFFSETTO:-0400
TZNAME:EDT
DTSTART:20250309T070000
END:DAYLIGHT
BEGIN:STANDARD
TZOFFSETFROM:-0400
TZOFFSETTO:-0500
TZNAME:EST
DTSTART:20251102T060000
END:STANDARD
BEGIN:DAYLIGHT
TZOFFSETFROM:-0500
TZOFFSETTO:-0400
TZNAME:EDT
DTSTART:20260308T070000
END:DAYLIGHT
BEGIN:STANDARD
TZOFFSETFROM:-0400
TZOFFSETTO:-0500
TZNAME:EST
DTSTART:20261101T060000
END:STANDARD
BEGIN:DAYLIGHT
TZOFFSETFROM:-0500
TZOFFSETTO:-0400
TZNAME:EDT
DTSTART:20270314T070000
END:DAYLIGHT
BEGIN:STANDARD
TZOFFSETFROM:-0400
TZOFFSETTO:-0500
TZNAME:EST
DTSTART:20271107T060000
END:STANDARD
END:VTIMEZONE
BEGIN:VEVENT
DTSTART;TZID=America/New_York:20260309T093000
DTEND;TZID=America/New_York:20260309T093000
DTSTAMP:20260423T102158
CREATED:20260213T154606Z
LAST-MODIFIED:20260213T185926Z
UID:5337-1773048600-1773048600@www.brevillier.org
SUMMARY:Exercise
DESCRIPTION:
URL:https://www.brevillier.org/event/exercise-62/
CATEGORIES:BC Resident Events
END:VEVENT
BEGIN:VEVENT
DTSTART;TZID=America/New_York:20260309T100000
DTEND;TZID=America/New_York:20260309T100000
DTSTAMP:20260423T102158
CREATED:20260213T154605Z
LAST-MODIFIED:20260213T185926Z
UID:5336-1773050400-1773050400@www.brevillier.org
SUMMARY:News Chat & Fun Facts
DESCRIPTION:
URL:https://www.brevillier.org/event/news-chat-fun-facts-18/
CATEGORIES:BC Resident Events
END:VEVENT
BEGIN:VEVENT
DTSTART;TZID=America/New_York:20260309T103000
DTEND;TZID=America/New_York:20260309T103000
DTSTAMP:20260423T102158
CREATED:20260213T154616Z
LAST-MODIFIED:20260213T185930Z
UID:5339-1773052200-1773052200@www.brevillier.org
SUMMARY:Journeys End
DESCRIPTION:
URL:https://www.brevillier.org/event/journeys-end/
CATEGORIES:BC Resident Events
END:VEVENT
BEGIN:VEVENT
DTSTART;TZID=America/New_York:20260309T130000
DTEND;TZID=America/New_York:20260309T130000
DTSTAMP:20260423T102158
CREATED:20260213T154616Z
LAST-MODIFIED:20260213T185930Z
UID:5338-1773061200-1773061200@www.brevillier.org
SUMMARY:Book Mobile
DESCRIPTION:
URL:https://www.brevillier.org/event/book-mobile-2/
CATEGORIES:BC Resident Events
END:VEVENT
BEGIN:VEVENT
DTSTART;TZID=America/New_York:20260309T143000
DTEND;TZID=America/New_York:20260309T143000
DTSTAMP:20260423T102158
CREATED:20260213T154605Z
LAST-MODIFIED:20260213T185926Z
UID:5334-1773066600-1773066600@www.brevillier.org
SUMMARY:Rosary
DESCRIPTION:
URL:https://www.brevillier.org/event/rosary-24/
CATEGORIES:BC Resident Events
END:VEVENT
BEGIN:VEVENT
DTSTART;TZID=America/New_York:20260309T150000
DTEND;TZID=America/New_York:20260309T150000
DTSTAMP:20260423T102158
CREATED:20260213T154605Z
LAST-MODIFIED:20260213T185926Z
UID:5333-1773068400-1773068400@www.brevillier.org
SUMMARY:Beverage Cart
DESCRIPTION:
URL:https://www.brevillier.org/event/beverage-cart-26/
CATEGORIES:BC Resident Events
END:VEVENT
BEGIN:VEVENT
DTSTART;TZID=America/New_York:20260309T180000
DTEND;TZID=America/New_York:20260309T180000
DTSTAMP:20260423T102158
CREATED:20260213T154605Z
LAST-MODIFIED:20260213T185926Z
UID:5335-1773079200-1773079200@www.brevillier.org
SUMMARY:Movie
DESCRIPTION:
URL:https://www.brevillier.org/event/movie-47/
CATEGORIES:BC Resident Events
END:VEVENT
END:VCALENDAR