BEGIN:VCALENDAR
VERSION:2.0
PRODID:-//Brevillier Village - ECPv6.15.20//NONSGML v1.0//EN
CALSCALE:GREGORIAN
METHOD:PUBLISH
X-WR-CALNAME:Brevillier Village
X-ORIGINAL-URL:https://www.brevillier.org
X-WR-CALDESC:Events for Brevillier Village
REFRESH-INTERVAL;VALUE=DURATION:PT1H
X-Robots-Tag:noindex
X-PUBLISHED-TTL:PT1H
BEGIN:VTIMEZONE
TZID:America/New_York
BEGIN:DAYLIGHT
TZOFFSETFROM:-0500
TZOFFSETTO:-0400
TZNAME:EDT
DTSTART:20250309T070000
END:DAYLIGHT
BEGIN:STANDARD
TZOFFSETFROM:-0400
TZOFFSETTO:-0500
TZNAME:EST
DTSTART:20251102T060000
END:STANDARD
BEGIN:DAYLIGHT
TZOFFSETFROM:-0500
TZOFFSETTO:-0400
TZNAME:EDT
DTSTART:20260308T070000
END:DAYLIGHT
BEGIN:STANDARD
TZOFFSETFROM:-0400
TZOFFSETTO:-0500
TZNAME:EST
DTSTART:20261101T060000
END:STANDARD
BEGIN:DAYLIGHT
TZOFFSETFROM:-0500
TZOFFSETTO:-0400
TZNAME:EDT
DTSTART:20270314T070000
END:DAYLIGHT
BEGIN:STANDARD
TZOFFSETFROM:-0400
TZOFFSETTO:-0500
TZNAME:EST
DTSTART:20271107T060000
END:STANDARD
END:VTIMEZONE
BEGIN:VEVENT
DTSTART;TZID=America/New_York:20260303T093000
DTEND;TZID=America/New_York:20260303T093000
DTSTAMP:20260423T102200
CREATED:20260213T154521Z
LAST-MODIFIED:20260213T185851Z
UID:5278-1772530200-1772530200@www.brevillier.org
SUMMARY:Exercise
DESCRIPTION:
URL:https://www.brevillier.org/event/exercise-59/
CATEGORIES:BC Resident Events
END:VEVENT
BEGIN:VEVENT
DTSTART;TZID=America/New_York:20260303T100000
DTEND;TZID=America/New_York:20260303T100000
DTSTAMP:20260423T102200
CREATED:20260213T154527Z
LAST-MODIFIED:20260213T185857Z
UID:5288-1772532000-1772532000@www.brevillier.org
SUMMARY:News Chat & Doughnuts
DESCRIPTION:
URL:https://www.brevillier.org/event/news-chat-doughnuts-5/
CATEGORIES:BC Resident Events
END:VEVENT
BEGIN:VEVENT
DTSTART;TZID=America/New_York:20260303T103000
DTEND;TZID=America/New_York:20260303T103000
DTSTAMP:20260423T102200
CREATED:20260213T154521Z
LAST-MODIFIED:20260213T185851Z
UID:5282-1772533800-1772533800@www.brevillier.org
SUMMARY:Chat's With Chuck
DESCRIPTION:
URL:https://www.brevillier.org/event/chats-with-chuck-3/
CATEGORIES:BC Resident Events
END:VEVENT
BEGIN:VEVENT
DTSTART;TZID=America/New_York:20260303T120000
DTEND;TZID=America/New_York:20260303T120000
DTSTAMP:20260423T102200
CREATED:20260213T154527Z
LAST-MODIFIED:20260213T185857Z
UID:5289-1772539200-1772539200@www.brevillier.org
SUMMARY:Lunch In Burger King
DESCRIPTION:
URL:https://www.brevillier.org/event/lunch-in-burger-king/
CATEGORIES:BC Resident Events
END:VEVENT
BEGIN:VEVENT
DTSTART;TZID=America/New_York:20260303T133000
DTEND;TZID=America/New_York:20260303T133000
DTSTAMP:20260423T102200
CREATED:20260213T154521Z
LAST-MODIFIED:20260213T185851Z
UID:5280-1772544600-1772544600@www.brevillier.org
SUMMARY:Art's & Crafts
DESCRIPTION:
URL:https://www.brevillier.org/event/arts-crafts-3/
CATEGORIES:BC Resident Events
END:VEVENT
BEGIN:VEVENT
DTSTART;TZID=America/New_York:20260303T150000
DTEND;TZID=America/New_York:20260303T150000
DTSTAMP:20260423T102200
CREATED:20260213T154521Z
LAST-MODIFIED:20260213T185851Z
UID:5279-1772550000-1772550000@www.brevillier.org
SUMMARY:Beverage Cart
DESCRIPTION:
URL:https://www.brevillier.org/event/beverage-cart-24/
CATEGORIES:BC Resident Events
END:VEVENT
BEGIN:VEVENT
DTSTART;TZID=America/New_York:20260303T180000
DTEND;TZID=America/New_York:20260303T180000
DTSTAMP:20260423T102200
CREATED:20260213T154521Z
LAST-MODIFIED:20260213T185851Z
UID:5281-1772560800-1772560800@www.brevillier.org
SUMMARY:Dime Bingo
DESCRIPTION:
URL:https://www.brevillier.org/event/dime-bingo-5/
CATEGORIES:BC Resident Events
END:VEVENT
END:VCALENDAR