BEGIN:VCALENDAR
VERSION:2.0
PRODID:-//Brevillier Village - ECPv6.15.20//NONSGML v1.0//EN
CALSCALE:GREGORIAN
METHOD:PUBLISH
X-WR-CALNAME:Brevillier Village
X-ORIGINAL-URL:https://www.brevillier.org
X-WR-CALDESC:Events for Brevillier Village
REFRESH-INTERVAL;VALUE=DURATION:PT1H
X-Robots-Tag:noindex
X-PUBLISHED-TTL:PT1H
BEGIN:VTIMEZONE
TZID:America/New_York
BEGIN:DAYLIGHT
TZOFFSETFROM:-0500
TZOFFSETTO:-0400
TZNAME:EDT
DTSTART:20250309T070000
END:DAYLIGHT
BEGIN:STANDARD
TZOFFSETFROM:-0400
TZOFFSETTO:-0500
TZNAME:EST
DTSTART:20251102T060000
END:STANDARD
BEGIN:DAYLIGHT
TZOFFSETFROM:-0500
TZOFFSETTO:-0400
TZNAME:EDT
DTSTART:20260308T070000
END:DAYLIGHT
BEGIN:STANDARD
TZOFFSETFROM:-0400
TZOFFSETTO:-0500
TZNAME:EST
DTSTART:20261101T060000
END:STANDARD
BEGIN:DAYLIGHT
TZOFFSETFROM:-0500
TZOFFSETTO:-0400
TZNAME:EDT
DTSTART:20270314T070000
END:DAYLIGHT
BEGIN:STANDARD
TZOFFSETFROM:-0400
TZOFFSETTO:-0500
TZNAME:EST
DTSTART:20271107T060000
END:STANDARD
END:VTIMEZONE
BEGIN:VEVENT
DTSTART;TZID=America/New_York:20260302T093000
DTEND;TZID=America/New_York:20260302T093000
DTSTAMP:20260423T100746
CREATED:20260213T154514Z
LAST-MODIFIED:20260213T185843Z
UID:5272-1772443800-1772443800@www.brevillier.org
SUMMARY:Exercise
DESCRIPTION:
URL:https://www.brevillier.org/event/exercise-58/
CATEGORIES:BC Resident Events
END:VEVENT
BEGIN:VEVENT
DTSTART;TZID=America/New_York:20260302T100000
DTEND;TZID=America/New_York:20260302T100000
DTSTAMP:20260423T100746
CREATED:20260213T154514Z
LAST-MODIFIED:20260213T185843Z
UID:5271-1772445600-1772445600@www.brevillier.org
SUMMARY:News Chat & Fun Facts
DESCRIPTION:
URL:https://www.brevillier.org/event/news-chat-fun-facts-17/
CATEGORIES:BC Resident Events
END:VEVENT
BEGIN:VEVENT
DTSTART;TZID=America/New_York:20260302T103000
DTEND;TZID=America/New_York:20260302T103000
DTSTAMP:20260423T100746
CREATED:20260213T154514Z
LAST-MODIFIED:20260213T185843Z
UID:5269-1772447400-1772447400@www.brevillier.org
SUMMARY:Suffleboard
DESCRIPTION:
URL:https://www.brevillier.org/event/suffleboard-12/
CATEGORIES:BC Resident Events
END:VEVENT
BEGIN:VEVENT
DTSTART;TZID=America/New_York:20260302T133000
DTEND;TZID=America/New_York:20260302T133000
DTSTAMP:20260423T100746
CREATED:20260213T154514Z
LAST-MODIFIED:20260213T185843Z
UID:5268-1772458200-1772458200@www.brevillier.org
SUMMARY:Bingo Bucks Bingo
DESCRIPTION:
URL:https://www.brevillier.org/event/bingo-bucks-bingo-7/
CATEGORIES:BC Resident Events
END:VEVENT
BEGIN:VEVENT
DTSTART;TZID=America/New_York:20260302T143000
DTEND;TZID=America/New_York:20260302T143000
DTSTAMP:20260423T100746
CREATED:20260213T154508Z
LAST-MODIFIED:20260213T185840Z
UID:5262-1772461800-1772461800@www.brevillier.org
SUMMARY:Rosary
DESCRIPTION:
URL:https://www.brevillier.org/event/rosary-22/
CATEGORIES:BC Resident Events
END:VEVENT
BEGIN:VEVENT
DTSTART;TZID=America/New_York:20260302T150000
DTEND;TZID=America/New_York:20260302T150000
DTSTAMP:20260423T100746
CREATED:20260213T154508Z
LAST-MODIFIED:20260213T185840Z
UID:5261-1772463600-1772463600@www.brevillier.org
SUMMARY:Beverage Cart
DESCRIPTION:
URL:https://www.brevillier.org/event/beverage-cart-23/
CATEGORIES:BC Resident Events
END:VEVENT
BEGIN:VEVENT
DTSTART;TZID=America/New_York:20260302T180000
DTEND;TZID=America/New_York:20260302T180000
DTSTAMP:20260423T100746
CREATED:20260213T154514Z
LAST-MODIFIED:20260213T185843Z
UID:5270-1772474400-1772474400@www.brevillier.org
SUMMARY:Movie
DESCRIPTION:
URL:https://www.brevillier.org/event/movie-43/
CATEGORIES:BC Resident Events
END:VEVENT
END:VCALENDAR