BEGIN:VCALENDAR
VERSION:2.0
PRODID:-//Brevillier Village - ECPv6.15.20//NONSGML v1.0//EN
CALSCALE:GREGORIAN
METHOD:PUBLISH
X-ORIGINAL-URL:https://www.brevillier.org
X-WR-CALDESC:Events for Brevillier Village
REFRESH-INTERVAL;VALUE=DURATION:PT1H
X-Robots-Tag:noindex
X-PUBLISHED-TTL:PT1H
BEGIN:VTIMEZONE
TZID:America/New_York
BEGIN:DAYLIGHT
TZOFFSETFROM:-0500
TZOFFSETTO:-0400
TZNAME:EDT
DTSTART:20250309T070000
END:DAYLIGHT
BEGIN:STANDARD
TZOFFSETFROM:-0400
TZOFFSETTO:-0500
TZNAME:EST
DTSTART:20251102T060000
END:STANDARD
BEGIN:DAYLIGHT
TZOFFSETFROM:-0500
TZOFFSETTO:-0400
TZNAME:EDT
DTSTART:20260308T070000
END:DAYLIGHT
BEGIN:STANDARD
TZOFFSETFROM:-0400
TZOFFSETTO:-0500
TZNAME:EST
DTSTART:20261101T060000
END:STANDARD
BEGIN:DAYLIGHT
TZOFFSETFROM:-0500
TZOFFSETTO:-0400
TZNAME:EDT
DTSTART:20270314T070000
END:DAYLIGHT
BEGIN:STANDARD
TZOFFSETFROM:-0400
TZOFFSETTO:-0500
TZNAME:EST
DTSTART:20271107T060000
END:STANDARD
END:VTIMEZONE
BEGIN:VEVENT
DTSTART;TZID=America/New_York:20260215T131500
DTEND;TZID=America/New_York:20260215T131500
DTSTAMP:20260423T163458
CREATED:20260213T153341Z
LAST-MODIFIED:20260213T182715Z
UID:5056-1771161300-1771161300@www.brevillier.org
SUMMARY:Cards } Uno
DESCRIPTION:
URL:https://www.brevillier.org/event/cards-uno/
CATEGORIES:Ball Pavilion
END:VEVENT
BEGIN:VEVENT
DTSTART;TZID=America/New_York:20260216T000000
DTEND;TZID=America/New_York:20260216T000000
DTSTAMP:20260423T163458
CREATED:20260213T153541Z
LAST-MODIFIED:20260213T182720Z
UID:5063-1771200000-1771200000@www.brevillier.org
SUMMARY:Presidents' Day
DESCRIPTION:
URL:https://www.brevillier.org/event/presidents-day/
CATEGORIES:Ball Pavilion
END:VEVENT
BEGIN:VEVENT
DTSTART;TZID=America/New_York:20260216T093000
DTEND;TZID=America/New_York:20260216T093000
DTSTAMP:20260423T163458
CREATED:20260213T153541Z
LAST-MODIFIED:20260213T182720Z
UID:5061-1771234200-1771234200@www.brevillier.org
SUMMARY:News Chat & Today's History
DESCRIPTION:
URL:https://www.brevillier.org/event/news-chat-todays-history/
CATEGORIES:Ball Pavilion
END:VEVENT
BEGIN:VEVENT
DTSTART;TZID=America/New_York:20260216T101500
DTEND;TZID=America/New_York:20260216T101500
DTSTAMP:20260423T163458
CREATED:20260213T153541Z
LAST-MODIFIED:20260213T182720Z
UID:5059-1771236900-1771236900@www.brevillier.org
SUMMARY:Polo
DESCRIPTION:
URL:https://www.brevillier.org/event/polo/
CATEGORIES:Ball Pavilion
END:VEVENT
BEGIN:VEVENT
DTSTART;TZID=America/New_York:20260216T103000
DTEND;TZID=America/New_York:20260216T103000
DTSTAMP:20260423T163458
CREATED:20260213T153541Z
LAST-MODIFIED:20260213T182720Z
UID:5062-1771237800-1771237800@www.brevillier.org
SUMMARY:Name That Tune With Jamie
DESCRIPTION:
URL:https://www.brevillier.org/event/name-that-tune-with-jamie/
CATEGORIES:Ball Pavilion
END:VEVENT
BEGIN:VEVENT
DTSTART;TZID=America/New_York:20260216T133000
DTEND;TZID=America/New_York:20260216T133000
DTSTAMP:20260423T163458
CREATED:20260213T153541Z
LAST-MODIFIED:20260213T182720Z
UID:5060-1771248600-1771248600@www.brevillier.org
SUMMARY:Bingo
DESCRIPTION:
URL:https://www.brevillier.org/event/bingo-2/
CATEGORIES:Ball Pavilion
END:VEVENT
BEGIN:VEVENT
DTSTART;TZID=America/New_York:20260216T150000
DTEND;TZID=America/New_York:20260216T150000
DTSTAMP:20260423T163458
CREATED:20260213T153341Z
LAST-MODIFIED:20260213T182715Z
UID:5057-1771254000-1771254000@www.brevillier.org
SUMMARY:Rosary
DESCRIPTION:
URL:https://www.brevillier.org/event/rosary-17/
CATEGORIES:Ball Pavilion
END:VEVENT
BEGIN:VEVENT
DTSTART;TZID=America/New_York:20260216T180000
DTEND;TZID=America/New_York:20260216T180000
DTSTAMP:20260423T163458
CREATED:20260213T153742Z
LAST-MODIFIED:20260213T182735Z
UID:5064-1771264800-1771264800@www.brevillier.org
SUMMARY:Memory Magic
DESCRIPTION:
URL:https://www.brevillier.org/event/memory-magic/
CATEGORIES:Ball Pavilion
END:VEVENT
BEGIN:VEVENT
DTSTART;TZID=America/New_York:20260217T000000
DTEND;TZID=America/New_York:20260217T000000
DTSTAMP:20260423T163458
CREATED:20260213T153919Z
LAST-MODIFIED:20260213T182738Z
UID:5070-1771286400-1771286400@www.brevillier.org
SUMMARY:Lunar New Year
DESCRIPTION:
URL:https://www.brevillier.org/event/lunar-new-year/
CATEGORIES:Ball Pavilion
END:VEVENT
BEGIN:VEVENT
DTSTART;TZID=America/New_York:20260217T094500
DTEND;TZID=America/New_York:20260217T094500
DTSTAMP:20260423T163458
CREATED:20260213T153919Z
LAST-MODIFIED:20260213T182738Z
UID:5069-1771321500-1771321500@www.brevillier.org
SUMMARY:News Chat & Trivia
DESCRIPTION:
URL:https://www.brevillier.org/event/news-chat-trivia/
CATEGORIES:Ball Pavilion
END:VEVENT
BEGIN:VEVENT
DTSTART;TZID=America/New_York:20260217T103000
DTEND;TZID=America/New_York:20260217T103000
DTSTAMP:20260423T163458
CREATED:20260213T153742Z
LAST-MODIFIED:20260213T182735Z
UID:5068-1771324200-1771324200@www.brevillier.org
SUMMARY:Bowling
DESCRIPTION:
URL:https://www.brevillier.org/event/bowling/
CATEGORIES:Ball Pavilion
END:VEVENT
BEGIN:VEVENT
DTSTART;TZID=America/New_York:20260217T180000
DTEND;TZID=America/New_York:20260217T180000
DTSTAMP:20260423T163458
CREATED:20260213T153742Z
LAST-MODIFIED:20260213T182735Z
UID:5066-1771351200-1771351200@www.brevillier.org
SUMMARY:Bingo
DESCRIPTION:
URL:https://www.brevillier.org/event/bingo-3/
CATEGORIES:Ball Pavilion
END:VEVENT
BEGIN:VEVENT
DTSTART;TZID=America/New_York:20260218T000000
DTEND;TZID=America/New_York:20260218T000000
DTSTAMP:20260423T163458
CREATED:20260213T153934Z
LAST-MODIFIED:20260408T111307Z
UID:5077-1771372800-1771372800@www.brevillier.org
SUMMARY:Ash Wednesday } Room To Room Ashes In The Afternoon
DESCRIPTION:
URL:https://www.brevillier.org/event/ash-wednesday-room-to-room-ashes-in-the-afternoon/
CATEGORIES:Ball Pavilion
END:VEVENT
BEGIN:VEVENT
DTSTART;TZID=America/New_York:20260218T094500
DTEND;TZID=America/New_York:20260218T094500
DTSTAMP:20260423T163458
CREATED:20260213T153934Z
LAST-MODIFIED:20260213T182755Z
UID:5076-1771407900-1771407900@www.brevillier.org
SUMMARY:News Chat
DESCRIPTION:
URL:https://www.brevillier.org/event/news-chat-3/
CATEGORIES:Ball Pavilion
END:VEVENT
BEGIN:VEVENT
DTSTART;TZID=America/New_York:20260218T101500
DTEND;TZID=America/New_York:20260218T101500
DTSTAMP:20260423T163458
CREATED:20260213T153919Z
LAST-MODIFIED:20260213T182738Z
UID:5071-1771409700-1771409700@www.brevillier.org
SUMMARY:Sittercise
DESCRIPTION:
URL:https://www.brevillier.org/event/sittercise-14/
CATEGORIES:Ball Pavilion
END:VEVENT
BEGIN:VEVENT
DTSTART;TZID=America/New_York:20260218T104500
DTEND;TZID=America/New_York:20260218T104500
DTSTAMP:20260423T163458
CREATED:20260213T153934Z
LAST-MODIFIED:20260213T182755Z
UID:5075-1771411500-1771411500@www.brevillier.org
SUMMARY:Hand Spa & Relaxing Beauty
DESCRIPTION:
URL:https://www.brevillier.org/event/hand-spa-relaxing-beauty/
CATEGORIES:Ball Pavilion
END:VEVENT
BEGIN:VEVENT
DTSTART;TZID=America/New_York:20260218T131500
DTEND;TZID=America/New_York:20260218T131500
DTSTAMP:20260423T163458
CREATED:20260213T153919Z
LAST-MODIFIED:20260213T182738Z
UID:5072-1771420500-1771420500@www.brevillier.org
SUMMARY:Movie
DESCRIPTION:
URL:https://www.brevillier.org/event/movie-33/
CATEGORIES:Ball Pavilion
END:VEVENT
BEGIN:VEVENT
DTSTART;TZID=America/New_York:20260218T180000
DTEND;TZID=America/New_York:20260218T180000
DTSTAMP:20260423T163458
CREATED:20260213T153919Z
LAST-MODIFIED:20260213T182738Z
UID:5073-1771437600-1771437600@www.brevillier.org
SUMMARY:Family Feud
DESCRIPTION:
URL:https://www.brevillier.org/event/family-feud/
CATEGORIES:Ball Pavilion
END:VEVENT
BEGIN:VEVENT
DTSTART;TZID=America/New_York:20260219T100000
DTEND;TZID=America/New_York:20260219T100000
DTSTAMP:20260423T163458
CREATED:20260213T162837Z
LAST-MODIFIED:20260213T182809Z
UID:5949-1771495200-1771495200@www.brevillier.org
SUMMARY:Religious Services
DESCRIPTION:
URL:https://www.brevillier.org/event/religious-services-16/
CATEGORIES:Ball Pavilion
END:VEVENT
BEGIN:VEVENT
DTSTART;TZID=America/New_York:20260219T104500
DTEND;TZID=America/New_York:20260219T104500
DTSTAMP:20260423T163458
CREATED:20260213T153934Z
LAST-MODIFIED:20260213T182755Z
UID:5078-1771497900-1771497900@www.brevillier.org
SUMMARY:News Chat
DESCRIPTION:
URL:https://www.brevillier.org/event/news-chat-4/
CATEGORIES:Ball Pavilion
END:VEVENT
BEGIN:VEVENT
DTSTART;TZID=America/New_York:20260219T111500
DTEND;TZID=America/New_York:20260219T111500
DTSTAMP:20260423T163458
CREATED:20260213T162838Z
LAST-MODIFIED:20260213T182809Z
UID:5952-1771499700-1771499700@www.brevillier.org
SUMMARY:Morning Happy Hour
DESCRIPTION:
URL:https://www.brevillier.org/event/morning-happy-hour-11/
CATEGORIES:Ball Pavilion
END:VEVENT
BEGIN:VEVENT
DTSTART;TZID=America/New_York:20260219T133000
DTEND;TZID=America/New_York:20260219T133000
DTSTAMP:20260423T163458
CREATED:20260213T162838Z
LAST-MODIFIED:20260213T182809Z
UID:5953-1771507800-1771507800@www.brevillier.org
SUMMARY:Let's Create With Tissue Paper
DESCRIPTION:
URL:https://www.brevillier.org/event/lets-create-with-tissue-paper/
CATEGORIES:Ball Pavilion
END:VEVENT
BEGIN:VEVENT
DTSTART;TZID=America/New_York:20260219T144500
DTEND;TZID=America/New_York:20260219T144500
DTSTAMP:20260423T163458
CREATED:20260213T162838Z
LAST-MODIFIED:20260213T182809Z
UID:5951-1771512300-1771512300@www.brevillier.org
SUMMARY:Beverage Cart
DESCRIPTION:
URL:https://www.brevillier.org/event/beverage-cart-46/
CATEGORIES:Ball Pavilion
END:VEVENT
BEGIN:VEVENT
DTSTART;TZID=America/New_York:20260219T180000
DTEND;TZID=America/New_York:20260219T180000
DTSTAMP:20260423T163458
CREATED:20260213T162838Z
LAST-MODIFIED:20260213T182809Z
UID:5950-1771524000-1771524000@www.brevillier.org
SUMMARY:Bingo
DESCRIPTION:
URL:https://www.brevillier.org/event/bingo-5/
CATEGORIES:Ball Pavilion
END:VEVENT
BEGIN:VEVENT
DTSTART;TZID=America/New_York:20260220T094500
DTEND;TZID=America/New_York:20260220T094500
DTSTAMP:20260423T163458
CREATED:20260213T162855Z
LAST-MODIFIED:20260213T182816Z
UID:5955-1771580700-1771580700@www.brevillier.org
SUMMARY:News Chat & Fun Facts
DESCRIPTION:
URL:https://www.brevillier.org/event/news-chat-fun-facts-26/
CATEGORIES:Ball Pavilion
END:VEVENT
BEGIN:VEVENT
DTSTART;TZID=America/New_York:20260220T103000
DTEND;TZID=America/New_York:20260220T103000
DTSTAMP:20260423T163458
CREATED:20260213T162855Z
LAST-MODIFIED:20260213T182816Z
UID:5956-1771583400-1771583400@www.brevillier.org
SUMMARY:Dancercise
DESCRIPTION:
URL:https://www.brevillier.org/event/dancercise-2/
CATEGORIES:Ball Pavilion
END:VEVENT
BEGIN:VEVENT
DTSTART;TZID=America/New_York:20260220T110000
DTEND;TZID=America/New_York:20260220T110000
DTSTAMP:20260423T163458
CREATED:20260213T162855Z
LAST-MODIFIED:20260213T182816Z
UID:5958-1771585200-1771585200@www.brevillier.org
SUMMARY:Relaxing Beauty
DESCRIPTION:
URL:https://www.brevillier.org/event/relaxing-beauty-3/
CATEGORIES:Ball Pavilion
END:VEVENT
BEGIN:VEVENT
DTSTART;TZID=America/New_York:20260220T133000
DTEND;TZID=America/New_York:20260220T133000
DTSTAMP:20260423T163458
CREATED:20260213T162855Z
LAST-MODIFIED:20260213T182816Z
UID:5957-1771594200-1771594200@www.brevillier.org
SUMMARY:Good Vibes With Johnny "G" On The Keys
DESCRIPTION:
URL:https://www.brevillier.org/event/good-vibes-with-johnny-g-on-the-keys/
CATEGORIES:Ball Pavilion
END:VEVENT
BEGIN:VEVENT
DTSTART;TZID=America/New_York:20260220T180000
DTEND;TZID=America/New_York:20260220T180000
DTSTAMP:20260423T163458
CREATED:20260213T162855Z
LAST-MODIFIED:20260213T182816Z
UID:5954-1771610400-1771610400@www.brevillier.org
SUMMARY:Shuffleboard
DESCRIPTION:
URL:https://www.brevillier.org/event/shuffleboard-15/
CATEGORIES:Ball Pavilion
END:VEVENT
BEGIN:VEVENT
DTSTART;TZID=America/New_York:20260221T093000
DTEND;TZID=America/New_York:20260221T093000
DTSTAMP:20260423T163458
CREATED:20260213T162912Z
LAST-MODIFIED:20260213T182831Z
UID:5961-1771666200-1771666200@www.brevillier.org
SUMMARY:News Chat
DESCRIPTION:
URL:https://www.brevillier.org/event/news-chat-29/
CATEGORIES:Ball Pavilion
END:VEVENT
END:VCALENDAR