BEGIN:VCALENDAR
VERSION:2.0
PRODID:-//Brevillier Village - ECPv6.15.20//NONSGML v1.0//EN
CALSCALE:GREGORIAN
METHOD:PUBLISH
X-ORIGINAL-URL:https://www.brevillier.org
X-WR-CALDESC:Events for Brevillier Village
REFRESH-INTERVAL;VALUE=DURATION:PT1H
X-Robots-Tag:noindex
X-PUBLISHED-TTL:PT1H
BEGIN:VTIMEZONE
TZID:America/New_York
BEGIN:DAYLIGHT
TZOFFSETFROM:-0500
TZOFFSETTO:-0400
TZNAME:EDT
DTSTART:20250309T070000
END:DAYLIGHT
BEGIN:STANDARD
TZOFFSETFROM:-0400
TZOFFSETTO:-0500
TZNAME:EST
DTSTART:20251102T060000
END:STANDARD
BEGIN:DAYLIGHT
TZOFFSETFROM:-0500
TZOFFSETTO:-0400
TZNAME:EDT
DTSTART:20260308T070000
END:DAYLIGHT
BEGIN:STANDARD
TZOFFSETFROM:-0400
TZOFFSETTO:-0500
TZNAME:EST
DTSTART:20261101T060000
END:STANDARD
BEGIN:DAYLIGHT
TZOFFSETFROM:-0500
TZOFFSETTO:-0400
TZNAME:EDT
DTSTART:20270314T070000
END:DAYLIGHT
BEGIN:STANDARD
TZOFFSETFROM:-0400
TZOFFSETTO:-0500
TZNAME:EST
DTSTART:20271107T060000
END:STANDARD
END:VTIMEZONE
BEGIN:VEVENT
DTSTART;TZID=America/New_York:20260301T093000
DTEND;TZID=America/New_York:20260301T093000
DTSTAMP:20260423T134527
CREATED:20260213T163018Z
LAST-MODIFIED:20260213T182958Z
UID:5993-1772357400-1772357400@www.brevillier.org
SUMMARY:News Chat
DESCRIPTION:
URL:https://www.brevillier.org/event/news-chat-34/
CATEGORIES:Ball Pavilion
END:VEVENT
BEGIN:VEVENT
DTSTART;TZID=America/New_York:20260301T100000
DTEND;TZID=America/New_York:20260301T100000
DTSTAMP:20260423T134527
CREATED:20260213T163018Z
LAST-MODIFIED:20260213T182958Z
UID:5992-1772359200-1772359200@www.brevillier.org
SUMMARY:Sittercise
DESCRIPTION:
URL:https://www.brevillier.org/event/sittercise-17/
CATEGORIES:Ball Pavilion
END:VEVENT
BEGIN:VEVENT
DTSTART;TZID=America/New_York:20260301T131500
DTEND;TZID=America/New_York:20260301T131500
DTSTAMP:20260423T134527
CREATED:20260213T163018Z
LAST-MODIFIED:20260213T182958Z
UID:5994-1772370900-1772370900@www.brevillier.org
SUMMARY:Cards } Go Fish
DESCRIPTION:
URL:https://www.brevillier.org/event/cards-go-fish/
CATEGORIES:Ball Pavilion
END:VEVENT
END:VCALENDAR