BEGIN:VCALENDAR
VERSION:2.0
PRODID:-//Brevillier Village - ECPv6.15.20//NONSGML v1.0//EN
CALSCALE:GREGORIAN
METHOD:PUBLISH
X-ORIGINAL-URL:https://www.brevillier.org
X-WR-CALDESC:Events for Brevillier Village
REFRESH-INTERVAL;VALUE=DURATION:PT1H
X-Robots-Tag:noindex
X-PUBLISHED-TTL:PT1H
BEGIN:VTIMEZONE
TZID:America/New_York
BEGIN:DAYLIGHT
TZOFFSETFROM:-0500
TZOFFSETTO:-0400
TZNAME:EDT
DTSTART:20250309T070000
END:DAYLIGHT
BEGIN:STANDARD
TZOFFSETFROM:-0400
TZOFFSETTO:-0500
TZNAME:EST
DTSTART:20251102T060000
END:STANDARD
BEGIN:DAYLIGHT
TZOFFSETFROM:-0500
TZOFFSETTO:-0400
TZNAME:EDT
DTSTART:20260308T070000
END:DAYLIGHT
BEGIN:STANDARD
TZOFFSETFROM:-0400
TZOFFSETTO:-0500
TZNAME:EST
DTSTART:20261101T060000
END:STANDARD
BEGIN:DAYLIGHT
TZOFFSETFROM:-0500
TZOFFSETTO:-0400
TZNAME:EDT
DTSTART:20270314T070000
END:DAYLIGHT
BEGIN:STANDARD
TZOFFSETFROM:-0400
TZOFFSETTO:-0500
TZNAME:EST
DTSTART:20271107T060000
END:STANDARD
END:VTIMEZONE
BEGIN:VEVENT
DTSTART;TZID=America/New_York:20260313T100000
DTEND;TZID=America/New_York:20260313T100000
DTSTAMP:20260423T100612
CREATED:20260213T154705Z
LAST-MODIFIED:20260213T190013Z
UID:5363-1773396000-1773396000@www.brevillier.org
SUMMARY:Religious Services
DESCRIPTION:
URL:https://www.brevillier.org/event/religious-services-6/
CATEGORIES:BC Resident Events
END:VEVENT
BEGIN:VEVENT
DTSTART;TZID=America/New_York:20260313T110000
DTEND;TZID=America/New_York:20260313T110000
DTSTAMP:20260423T100612
CREATED:20260213T154705Z
LAST-MODIFIED:20260213T190013Z
UID:5364-1773399600-1773399600@www.brevillier.org
SUMMARY:Hand Spa & Relaxing Beauty
DESCRIPTION:
URL:https://www.brevillier.org/event/hand-spa-relaxing-beauty-6/
CATEGORIES:BC Resident Events
END:VEVENT
BEGIN:VEVENT
DTSTART;TZID=America/New_York:20260313T133000
DTEND;TZID=America/New_York:20260313T133000
DTSTAMP:20260423T100612
CREATED:20260213T154706Z
LAST-MODIFIED:20260213T190013Z
UID:5365-1773408600-1773408600@www.brevillier.org
SUMMARY:Social Hour
DESCRIPTION:
URL:https://www.brevillier.org/event/social-hour-2/
CATEGORIES:BC Resident Events
END:VEVENT
BEGIN:VEVENT
DTSTART;TZID=America/New_York:20260313T140000
DTEND;TZID=America/New_York:20260313T140000
DTSTAMP:20260423T100612
CREATED:20260213T154656Z
LAST-MODIFIED:20260213T185956Z
UID:5362-1773410400-1773410400@www.brevillier.org
SUMMARY:Karaoke
DESCRIPTION:
URL:https://www.brevillier.org/event/karaoke-2/
CATEGORIES:BC Resident Events
END:VEVENT
BEGIN:VEVENT
DTSTART;TZID=America/New_York:20260313T180000
DTEND;TZID=America/New_York:20260313T180000
DTSTAMP:20260423T100612
CREATED:20260213T154656Z
LAST-MODIFIED:20260213T185956Z
UID:5361-1773424800-1773424800@www.brevillier.org
SUMMARY:Movie
DESCRIPTION:
URL:https://www.brevillier.org/event/movie-50/
CATEGORIES:BC Resident Events
END:VEVENT
END:VCALENDAR