BEGIN:VCALENDAR
VERSION:2.0
PRODID:-//Brevillier Village - ECPv6.15.20//NONSGML v1.0//EN
CALSCALE:GREGORIAN
METHOD:PUBLISH
X-WR-CALNAME:Brevillier Village
X-ORIGINAL-URL:https://www.brevillier.org
X-WR-CALDESC:Events for Brevillier Village
REFRESH-INTERVAL;VALUE=DURATION:PT1H
X-Robots-Tag:noindex
X-PUBLISHED-TTL:PT1H
BEGIN:VTIMEZONE
TZID:America/New_York
BEGIN:DAYLIGHT
TZOFFSETFROM:-0500
TZOFFSETTO:-0400
TZNAME:EDT
DTSTART:20250309T070000
END:DAYLIGHT
BEGIN:STANDARD
TZOFFSETFROM:-0400
TZOFFSETTO:-0500
TZNAME:EST
DTSTART:20251102T060000
END:STANDARD
BEGIN:DAYLIGHT
TZOFFSETFROM:-0500
TZOFFSETTO:-0400
TZNAME:EDT
DTSTART:20260308T070000
END:DAYLIGHT
BEGIN:STANDARD
TZOFFSETFROM:-0400
TZOFFSETTO:-0500
TZNAME:EST
DTSTART:20261101T060000
END:STANDARD
BEGIN:DAYLIGHT
TZOFFSETFROM:-0500
TZOFFSETTO:-0400
TZNAME:EDT
DTSTART:20270314T070000
END:DAYLIGHT
BEGIN:STANDARD
TZOFFSETFROM:-0400
TZOFFSETTO:-0500
TZNAME:EST
DTSTART:20271107T060000
END:STANDARD
END:VTIMEZONE
BEGIN:VEVENT
DTSTART;TZID=America/New_York:20260306T100000
DTEND;TZID=America/New_York:20260306T100000
DTSTAMP:20260423T100507
CREATED:20260213T154548Z
LAST-MODIFIED:20260213T185914Z
UID:5319-1772791200-1772791200@www.brevillier.org
SUMMARY:Religious Services
DESCRIPTION:
URL:https://www.brevillier.org/event/religious-services-4/
CATEGORIES:BC Resident Events
END:VEVENT
BEGIN:VEVENT
DTSTART;TZID=America/New_York:20260306T110000
DTEND;TZID=America/New_York:20260306T110000
DTSTAMP:20260423T100507
CREATED:20260213T154548Z
LAST-MODIFIED:20260213T185914Z
UID:5320-1772794800-1772794800@www.brevillier.org
SUMMARY:Hand Spa & Relaxing Beauty
DESCRIPTION:
URL:https://www.brevillier.org/event/hand-spa-relaxing-beauty-5/
CATEGORIES:BC Resident Events
END:VEVENT
BEGIN:VEVENT
DTSTART;TZID=America/New_York:20260306T133000
DTEND;TZID=America/New_York:20260306T133000
DTSTAMP:20260423T100507
CREATED:20260213T154548Z
LAST-MODIFIED:20260313T142615Z
UID:5321-1772803800-1772803800@www.brevillier.org
SUMMARY:Resident Monthly Birthday Party With Johnny "G" On The Keys
DESCRIPTION:
URL:https://www.brevillier.org/event/resident-monthly-birthday-party-with-johnny-g-on-the-keys/
CATEGORIES:BC Resident Events
END:VEVENT
BEGIN:VEVENT
DTSTART;TZID=America/New_York:20260306T180000
DTEND;TZID=America/New_York:20260306T180000
DTSTAMP:20260423T100507
CREATED:20260213T154548Z
LAST-MODIFIED:20260213T185914Z
UID:5318-1772820000-1772820000@www.brevillier.org
SUMMARY:Movie
DESCRIPTION:
URL:https://www.brevillier.org/event/movie-46/
CATEGORIES:BC Resident Events
END:VEVENT
END:VCALENDAR