BEGIN:VCALENDAR
VERSION:2.0
PRODID:-//Brevillier Village - ECPv6.15.20//NONSGML v1.0//EN
CALSCALE:GREGORIAN
METHOD:PUBLISH
X-ORIGINAL-URL:https://www.brevillier.org
X-WR-CALDESC:Events for Brevillier Village
REFRESH-INTERVAL;VALUE=DURATION:PT1H
X-Robots-Tag:noindex
X-PUBLISHED-TTL:PT1H
BEGIN:VTIMEZONE
TZID:America/New_York
BEGIN:DAYLIGHT
TZOFFSETFROM:-0500
TZOFFSETTO:-0400
TZNAME:EDT
DTSTART:20250309T070000
END:DAYLIGHT
BEGIN:STANDARD
TZOFFSETFROM:-0400
TZOFFSETTO:-0500
TZNAME:EST
DTSTART:20251102T060000
END:STANDARD
BEGIN:DAYLIGHT
TZOFFSETFROM:-0500
TZOFFSETTO:-0400
TZNAME:EDT
DTSTART:20260308T070000
END:DAYLIGHT
BEGIN:STANDARD
TZOFFSETFROM:-0400
TZOFFSETTO:-0500
TZNAME:EST
DTSTART:20261101T060000
END:STANDARD
BEGIN:DAYLIGHT
TZOFFSETFROM:-0500
TZOFFSETTO:-0400
TZNAME:EDT
DTSTART:20270314T070000
END:DAYLIGHT
BEGIN:STANDARD
TZOFFSETFROM:-0400
TZOFFSETTO:-0500
TZNAME:EST
DTSTART:20271107T060000
END:STANDARD
END:VTIMEZONE
BEGIN:VEVENT
DTSTART;TZID=America/New_York:20260304T093000
DTEND;TZID=America/New_York:20260304T093000
DTSTAMP:20260423T100201
CREATED:20260213T154527Z
LAST-MODIFIED:20260213T185857Z
UID:5290-1772616600-1772616600@www.brevillier.org
SUMMARY:Exercise
DESCRIPTION:
URL:https://www.brevillier.org/event/exercise-60/
CATEGORIES:BC Resident Events
END:VEVENT
BEGIN:VEVENT
DTSTART;TZID=America/New_York:20260304T100000
DTEND;TZID=America/New_York:20260304T100000
DTSTAMP:20260423T100201
CREATED:20260213T154533Z
LAST-MODIFIED:20260213T185900Z
UID:5301-1772618400-1772618400@www.brevillier.org
SUMMARY:News Chat & Trivia
DESCRIPTION:
URL:https://www.brevillier.org/event/news-chat-trivia-4/
CATEGORIES:BC Resident Events
END:VEVENT
BEGIN:VEVENT
DTSTART;TZID=America/New_York:20260304T103000
DTEND;TZID=America/New_York:20260304T103000
DTSTAMP:20260423T100201
CREATED:20260213T154533Z
LAST-MODIFIED:20260213T185900Z
UID:5300-1772620200-1772620200@www.brevillier.org
SUMMARY:Bowling At BCN
DESCRIPTION:
URL:https://www.brevillier.org/event/bowling-at-bcn-3/
CATEGORIES:BC Resident Events
END:VEVENT
BEGIN:VEVENT
DTSTART;TZID=America/New_York:20260304T130000
DTEND;TZID=America/New_York:20260304T130000
DTSTAMP:20260423T100201
CREATED:20260213T154527Z
LAST-MODIFIED:20260213T185857Z
UID:5291-1772629200-1772629200@www.brevillier.org
SUMMARY:Movie
DESCRIPTION:
URL:https://www.brevillier.org/event/movie-44/
CATEGORIES:BC Resident Events
END:VEVENT
BEGIN:VEVENT
DTSTART;TZID=America/New_York:20260304T140000
DTEND;TZID=America/New_York:20260304T140000
DTSTAMP:20260423T100201
CREATED:20260213T154533Z
LAST-MODIFIED:20260213T185900Z
UID:5299-1772632800-1772632800@www.brevillier.org
SUMMARY:Popcorn & Beverages
DESCRIPTION:
URL:https://www.brevillier.org/event/popcorn-beverages-3/
CATEGORIES:BC Resident Events
END:VEVENT
BEGIN:VEVENT
DTSTART;TZID=America/New_York:20260304T143000
DTEND;TZID=America/New_York:20260304T143000
DTSTAMP:20260423T100201
CREATED:20260213T154533Z
LAST-MODIFIED:20260213T185900Z
UID:5298-1772634600-1772634600@www.brevillier.org
SUMMARY:Rosary
DESCRIPTION:
URL:https://www.brevillier.org/event/rosary-23/
CATEGORIES:BC Resident Events
END:VEVENT
BEGIN:VEVENT
DTSTART;TZID=America/New_York:20260304T180000
DTEND;TZID=America/New_York:20260304T180000
DTSTAMP:20260423T100201
CREATED:20260213T154527Z
LAST-MODIFIED:20260213T185857Z
UID:5292-1772647200-1772647200@www.brevillier.org
SUMMARY:Movie
DESCRIPTION:
URL:https://www.brevillier.org/event/movie-45/
CATEGORIES:BC Resident Events
END:VEVENT
END:VCALENDAR