BEGIN:VCALENDAR
VERSION:2.0
PRODID:-//Brevillier Village - ECPv6.15.20//NONSGML v1.0//EN
CALSCALE:GREGORIAN
METHOD:PUBLISH
X-WR-CALNAME:Brevillier Village
X-ORIGINAL-URL:https://www.brevillier.org
X-WR-CALDESC:Events for Brevillier Village
REFRESH-INTERVAL;VALUE=DURATION:PT1H
X-Robots-Tag:noindex
X-PUBLISHED-TTL:PT1H
BEGIN:VTIMEZONE
TZID:America/New_York
BEGIN:DAYLIGHT
TZOFFSETFROM:-0500
TZOFFSETTO:-0400
TZNAME:EDT
DTSTART:20250309T070000
END:DAYLIGHT
BEGIN:STANDARD
TZOFFSETFROM:-0400
TZOFFSETTO:-0500
TZNAME:EST
DTSTART:20251102T060000
END:STANDARD
BEGIN:DAYLIGHT
TZOFFSETFROM:-0500
TZOFFSETTO:-0400
TZNAME:EDT
DTSTART:20260308T070000
END:DAYLIGHT
BEGIN:STANDARD
TZOFFSETFROM:-0400
TZOFFSETTO:-0500
TZNAME:EST
DTSTART:20261101T060000
END:STANDARD
BEGIN:DAYLIGHT
TZOFFSETFROM:-0500
TZOFFSETTO:-0400
TZNAME:EDT
DTSTART:20270314T070000
END:DAYLIGHT
BEGIN:STANDARD
TZOFFSETFROM:-0400
TZOFFSETTO:-0500
TZNAME:EST
DTSTART:20271107T060000
END:STANDARD
END:VTIMEZONE
BEGIN:VEVENT
DTSTART;TZID=America/New_York:20260220T094500
DTEND;TZID=America/New_York:20260220T094500
DTSTAMP:20260423T111806
CREATED:20260213T162855Z
LAST-MODIFIED:20260213T182816Z
UID:5955-1771580700-1771580700@www.brevillier.org
SUMMARY:News Chat & Fun Facts
DESCRIPTION:
URL:https://www.brevillier.org/event/news-chat-fun-facts-26/
CATEGORIES:Ball Pavilion
END:VEVENT
BEGIN:VEVENT
DTSTART;TZID=America/New_York:20260220T100000
DTEND;TZID=America/New_York:20260220T100000
DTSTAMP:20260423T111806
CREATED:20260213T154405Z
LAST-MODIFIED:20260213T185749Z
UID:5139-1771581600-1771581600@www.brevillier.org
SUMMARY:Religious Services
DESCRIPTION:
URL:https://www.brevillier.org/event/religious-services-2/
CATEGORIES:BC Resident Events
END:VEVENT
BEGIN:VEVENT
DTSTART;TZID=America/New_York:20260220T103000
DTEND;TZID=America/New_York:20260220T103000
DTSTAMP:20260423T111806
CREATED:20260213T162855Z
LAST-MODIFIED:20260213T182816Z
UID:5956-1771583400-1771583400@www.brevillier.org
SUMMARY:Dancercise
DESCRIPTION:
URL:https://www.brevillier.org/event/dancercise-2/
CATEGORIES:Ball Pavilion
END:VEVENT
BEGIN:VEVENT
DTSTART;TZID=America/New_York:20260220T110000
DTEND;TZID=America/New_York:20260220T110000
DTSTAMP:20260423T111806
CREATED:20260213T154405Z
LAST-MODIFIED:20260213T185749Z
UID:5140-1771585200-1771585200@www.brevillier.org
SUMMARY:Hand Spa & Relaxing Beauty
DESCRIPTION:
URL:https://www.brevillier.org/event/hand-spa-relaxing-beauty-3/
CATEGORIES:BC Resident Events
END:VEVENT
BEGIN:VEVENT
DTSTART;TZID=America/New_York:20260220T110000
DTEND;TZID=America/New_York:20260220T110000
DTSTAMP:20260423T111806
CREATED:20260213T162855Z
LAST-MODIFIED:20260213T182816Z
UID:5958-1771585200-1771585200@www.brevillier.org
SUMMARY:Relaxing Beauty
DESCRIPTION:
URL:https://www.brevillier.org/event/relaxing-beauty-3/
CATEGORIES:Ball Pavilion
END:VEVENT
BEGIN:VEVENT
DTSTART;TZID=America/New_York:20260220T133000
DTEND;TZID=America/New_York:20260220T133000
DTSTAMP:20260423T111806
CREATED:20260213T154405Z
LAST-MODIFIED:20260213T185749Z
UID:5141-1771594200-1771594200@www.brevillier.org
SUMMARY:Good Vibes With Rick Brunning
DESCRIPTION:
URL:https://www.brevillier.org/event/good-vibes-with-rick-brunning/
CATEGORIES:BC Resident Events
END:VEVENT
BEGIN:VEVENT
DTSTART;TZID=America/New_York:20260220T133000
DTEND;TZID=America/New_York:20260220T133000
DTSTAMP:20260423T111806
CREATED:20260213T162855Z
LAST-MODIFIED:20260213T182816Z
UID:5957-1771594200-1771594200@www.brevillier.org
SUMMARY:Good Vibes With Johnny "G" On The Keys
DESCRIPTION:
URL:https://www.brevillier.org/event/good-vibes-with-johnny-g-on-the-keys/
CATEGORIES:Ball Pavilion
END:VEVENT
BEGIN:VEVENT
DTSTART;TZID=America/New_York:20260220T180000
DTEND;TZID=America/New_York:20260220T180000
DTSTAMP:20260423T111806
CREATED:20260213T154405Z
LAST-MODIFIED:20260213T185749Z
UID:5138-1771610400-1771610400@www.brevillier.org
SUMMARY:Movie
DESCRIPTION:
URL:https://www.brevillier.org/event/movie-38/
CATEGORIES:BC Resident Events
END:VEVENT
BEGIN:VEVENT
DTSTART;TZID=America/New_York:20260220T180000
DTEND;TZID=America/New_York:20260220T180000
DTSTAMP:20260423T111806
CREATED:20260213T162855Z
LAST-MODIFIED:20260213T182816Z
UID:5954-1771610400-1771610400@www.brevillier.org
SUMMARY:Shuffleboard
DESCRIPTION:
URL:https://www.brevillier.org/event/shuffleboard-15/
CATEGORIES:Ball Pavilion
END:VEVENT
END:VCALENDAR